BEGIN:VCALENDAR
VERSION:2.0
PRODID:-//Immaculate Conception - ECPv6.15.20//NONSGML v1.0//EN
CALSCALE:GREGORIAN
METHOD:PUBLISH
X-WR-CALNAME:Immaculate Conception
X-ORIGINAL-URL:https://www.immaculateconception.org.uk
X-WR-CALDESC:Events for Immaculate Conception
REFRESH-INTERVAL;VALUE=DURATION:PT1H
X-Robots-Tag:noindex
X-PUBLISHED-TTL:PT1H
BEGIN:VTIMEZONE
TZID:UTC
BEGIN:STANDARD
TZOFFSETFROM:+0000
TZOFFSETTO:+0000
TZNAME:UTC
DTSTART:20220101T000000
END:STANDARD
END:VTIMEZONE
BEGIN:VEVENT
DTSTART;TZID=UTC:20230109T100000
DTEND;TZID=UTC:20230109T113000
DTSTAMP:20260422T204557
CREATED:20221202T221707Z
LAST-MODIFIED:20230604T195117Z
UID:1260-1673258400-1673263800@www.immaculateconception.org.uk
SUMMARY:Breakfast Club....every Monday
DESCRIPTION:Breakfast Club… Pop into St Gregory’s Hall every Monday 10am – 11.30am.  Free breakfast & a catch up!
URL:https://www.immaculateconception.org.uk/event/breakfast-club-every-monday-2/2023-01-09/
ATTACH;FMTTYPE=image/jpeg:https://www.immaculateconception.org.uk/wp-content/uploads/2022/07/Breakfast-Club.jpg
END:VEVENT
END:VCALENDAR