BEGIN:VCALENDAR
VERSION:2.0
PRODID:-//Immaculate Conception - ECPv6.15.20//NONSGML v1.0//EN
CALSCALE:GREGORIAN
METHOD:PUBLISH
X-WR-CALNAME:Immaculate Conception
X-ORIGINAL-URL:https://www.immaculateconception.org.uk
X-WR-CALDESC:Events for Immaculate Conception
REFRESH-INTERVAL;VALUE=DURATION:PT1H
X-Robots-Tag:noindex
X-PUBLISHED-TTL:PT1H
BEGIN:VTIMEZONE
TZID:UTC
BEGIN:STANDARD
TZOFFSETFROM:+0000
TZOFFSETTO:+0000
TZNAME:UTC
DTSTART:20240101T000000
END:STANDARD
END:VTIMEZONE
BEGIN:VEVENT
DTSTART;TZID=UTC:20250413T080000
DTEND;TZID=UTC:20250419T223000
DTSTAMP:20260421T112127
CREATED:20250412T073423Z
LAST-MODIFIED:20250412T073544Z
UID:2950-1744531200-1745101800@www.immaculateconception.org.uk
SUMMARY:Welcome to Holy Week
DESCRIPTION:You are invited to join together and make this our holiest time.\nFrom the palms and cries of “Hosanna”; to the washing of the feet; through bread and wine – His very self. Come and remember Him\, on the cross for love of you. Then let’s rejoice that we are a people who are saved – we are for life! Come and welcome our new sisters and brothers at the Easter Vigil!
URL:https://www.immaculateconception.org.uk/event/welcome-to-holy-week/
ATTACH;FMTTYPE=image/jpeg:https://www.immaculateconception.org.uk/wp-content/uploads/2024/03/Holy-Week.jpg
END:VEVENT
BEGIN:VEVENT
DTSTART;TZID=UTC:20250415T110000
DTEND;TZID=UTC:20250415T184500
DTSTAMP:20260421T112127
CREATED:20250208T165806Z
LAST-MODIFIED:20250412T072523Z
UID:2871-1744714800-1744742700@www.immaculateconception.org.uk
SUMMARY:Adoration of the Blessed Sacrament
DESCRIPTION:Come and have some quiet time in adoration. During this Holy Week\, the church will be open between 11.00am and 6.45pm on Tuesday.
URL:https://www.immaculateconception.org.uk/event/adoration-of-the-blessed-sacrament-3/2025-04-15/
ATTACH;FMTTYPE=image/jpeg:https://www.immaculateconception.org.uk/wp-content/uploads/2023/07/Eucharistic-adoration.jpg
END:VEVENT
BEGIN:VEVENT
DTSTART;TZID=UTC:20250415T190000
DTEND;TZID=UTC:20250415T200000
DTSTAMP:20260421T112127
CREATED:20230403T154825Z
LAST-MODIFIED:20250412T070540Z
UID:1689-1744743600-1744747200@www.immaculateconception.org.uk
SUMMARY:Parish Penitential Service
DESCRIPTION:As we approach Easter\, we will think about our own baptism and our fidelity to the promises that were made for us. For the times we have not lived up to that we come together as a community and ask for forgiveness.
URL:https://www.immaculateconception.org.uk/event/parish-penitential-service/
ATTACH;FMTTYPE=image/jpeg:https://www.immaculateconception.org.uk/wp-content/uploads/2023/04/penitential-service-scaled.jpg
END:VEVENT
END:VCALENDAR