BEGIN:VCALENDAR
VERSION:2.0
PRODID:-//Immaculate Conception - ECPv6.15.20//NONSGML v1.0//EN
CALSCALE:GREGORIAN
METHOD:PUBLISH
X-ORIGINAL-URL:https://www.immaculateconception.org.uk
X-WR-CALDESC:Events for Immaculate Conception
REFRESH-INTERVAL;VALUE=DURATION:PT1H
X-Robots-Tag:noindex
X-PUBLISHED-TTL:PT1H
BEGIN:VTIMEZONE
TZID:UTC
BEGIN:STANDARD
TZOFFSETFROM:+0000
TZOFFSETTO:+0000
TZNAME:UTC
DTSTART:20240101T000000
END:STANDARD
END:VTIMEZONE
BEGIN:VEVENT
DTSTART;TZID=UTC:20251106T210000
DTEND;TZID=UTC:20251106T213000
DTSTAMP:20260422T161251
CREATED:20251106T201827Z
LAST-MODIFIED:20251106T201827Z
UID:3089-1762462800-1762464600@www.immaculateconception.org.uk
SUMMARY:Website Training
DESCRIPTION:Come learn
URL:https://www.immaculateconception.org.uk/event/website-training/
LOCATION:Church Hall\, 2049 Maryhill Road\, Glasgow\, G20 0AA\, United Kingdom
ATTACH;FMTTYPE=image/png:https://www.immaculateconception.org.uk/wp-content/uploads/2025/11/IM-Church-Training-Graphic.png
END:VEVENT
END:VCALENDAR