BEGIN:VCALENDAR
VERSION:2.0
PRODID:-//Immaculate Conception - ECPv6.15.20//NONSGML v1.0//EN
CALSCALE:GREGORIAN
METHOD:PUBLISH
X-ORIGINAL-URL:https://www.immaculateconception.org.uk
X-WR-CALDESC:Events for Immaculate Conception
REFRESH-INTERVAL;VALUE=DURATION:PT1H
X-Robots-Tag:noindex
X-PUBLISHED-TTL:PT1H
BEGIN:VTIMEZONE
TZID:UTC
BEGIN:STANDARD
TZOFFSETFROM:+0000
TZOFFSETTO:+0000
TZNAME:UTC
DTSTART:20240101T000000
END:STANDARD
END:VTIMEZONE
BEGIN:VEVENT
DTSTART;VALUE=DATE:20251227
DTEND;VALUE=DATE:20251228
DTSTAMP:20260421T131649
CREATED:20251212T155925Z
LAST-MODIFIED:20251212T155925Z
UID:3132-1766793600-1766879999@www.immaculateconception.org.uk
SUMMARY:Men's Breakfast
DESCRIPTION:
URL:https://www.immaculateconception.org.uk/event/mens-breakfast-9/
END:VEVENT
END:VCALENDAR