BEGIN:VCALENDAR
VERSION:2.0
PRODID:-//Immaculate Conception - ECPv6.15.20//NONSGML v1.0//EN
CALSCALE:GREGORIAN
METHOD:PUBLISH
X-ORIGINAL-URL:https://www.immaculateconception.org.uk
X-WR-CALDESC:Events for Immaculate Conception
REFRESH-INTERVAL;VALUE=DURATION:PT1H
X-Robots-Tag:noindex
X-PUBLISHED-TTL:PT1H
BEGIN:VTIMEZONE
TZID:UTC
BEGIN:STANDARD
TZOFFSETFROM:+0000
TZOFFSETTO:+0000
TZNAME:UTC
DTSTART:20250101T000000
END:STANDARD
END:VTIMEZONE
BEGIN:VEVENT
DTSTART;TZID=UTC:20260113T113000
DTEND;TZID=UTC:20260113T130000
DTSTAMP:20260422T124347
CREATED:20251212T160302Z
LAST-MODIFIED:20251212T160302Z
UID:3138-1768303800-1768309200@www.immaculateconception.org.uk
SUMMARY:Tuesday Club
DESCRIPTION:Here is the parish – friendship\, fun\, a dance and a bowl of home-made soup\, home baking. A game of bingo – of course! A programme of events throughout the year.  And a warm welcome.
URL:https://www.immaculateconception.org.uk/event/tuesday-club-3/2026-01-13/
END:VEVENT
END:VCALENDAR