BEGIN:VCALENDAR
VERSION:2.0
PRODID:-//Immaculate Conception - ECPv6.15.20//NONSGML v1.0//EN
CALSCALE:GREGORIAN
METHOD:PUBLISH
X-ORIGINAL-URL:https://www.immaculateconception.org.uk
X-WR-CALDESC:Events for Immaculate Conception
REFRESH-INTERVAL;VALUE=DURATION:PT1H
X-Robots-Tag:noindex
X-PUBLISHED-TTL:PT1H
BEGIN:VTIMEZONE
TZID:UTC
BEGIN:STANDARD
TZOFFSETFROM:+0000
TZOFFSETTO:+0000
TZNAME:UTC
DTSTART:20250101T000000
END:STANDARD
END:VTIMEZONE
BEGIN:VEVENT
DTSTART;TZID=UTC:20260119T130000
DTEND;TZID=UTC:20260119T133000
DTSTAMP:20260421T100957
CREATED:20251212T160755Z
LAST-MODIFIED:20260108T152726Z
UID:3147-1768827600-1768829400@www.immaculateconception.org.uk
SUMMARY:Prayer Week Christian Unity: Our Call To Unity
DESCRIPTION:  \nWeek of prayer for Christian Unity “Go and Do”. This week (18th–25th January) brings together all the Christian churches of Maryhill. We meet every day to reflect and pray together – and share some food! Check our web and bulletin for dates and venues. \nWeek of Prayer for Christian Unity (18 – 25 January 2026)\nChurches have been working together in Maryhill to arrange 5 daily sessions. We will use the materials which have been prepared internationally\, by churches in Armenia. We have learned that the Armenian Church has suffered a lot\, and that the Armenian people spread\nacross the world to escape dangers. We think the materials will be very topical\, to the current talk about migration. \n\n\nPlease join us for the four short lunchtime sessions of scripture\, prayer and reflection.\nAnd come early for soup\, tea and coffee before hand.\n\nOn the Friday evening\, we plan a short session of scripture\, prayer and reflection followed by cheese and wine social.
URL:https://www.immaculateconception.org.uk/event/prayer-week-christian-unity-our-call-to-unity/
LOCATION:St. Gregory’s
END:VEVENT
END:VCALENDAR