BEGIN:VCALENDAR
VERSION:2.0
PRODID:-//Immaculate Conception - ECPv6.15.20//NONSGML v1.0//EN
CALSCALE:GREGORIAN
METHOD:PUBLISH
X-ORIGINAL-URL:https://www.immaculateconception.org.uk
X-WR-CALDESC:Events for Immaculate Conception
REFRESH-INTERVAL;VALUE=DURATION:PT1H
X-Robots-Tag:noindex
X-PUBLISHED-TTL:PT1H
BEGIN:VTIMEZONE
TZID:UTC
BEGIN:STANDARD
TZOFFSETFROM:+0000
TZOFFSETTO:+0000
TZNAME:UTC
DTSTART:20250101T000000
END:STANDARD
END:VTIMEZONE
BEGIN:VEVENT
DTSTART;TZID=UTC:20260122T103000
DTEND;TZID=UTC:20260122T140000
DTSTAMP:20260422T124305
CREATED:20251212T160430Z
LAST-MODIFIED:20251212T160430Z
UID:3144-1769077800-1769090400@www.immaculateconception.org.uk
SUMMARY:Maccy Cafe
DESCRIPTION:Come and join us in the hall for a cuppa\, a breakfast roll\, lunch or just a wee chat. You are all welcome!
URL:https://www.immaculateconception.org.uk/event/maccy-cafe-2/2026-01-22/
END:VEVENT
BEGIN:VEVENT
DTSTART;TZID=UTC:20260122T130000
DTEND;TZID=UTC:20260122T133000
DTSTAMP:20260422T124305
CREATED:20251212T161312Z
LAST-MODIFIED:20260108T153526Z
UID:3156-1769086800-1769088600@www.immaculateconception.org.uk
SUMMARY:Prayer Week Christian Unity: Called to one hope
DESCRIPTION:  \nWeek of prayer for Christian Unity “Go and Do”. This week (18th–25th January) brings together all the Christian churches of Maryhill. We meet every day to reflect and pray together – and share some food! Check our web and bulletin for dates and venues. \nWeek of Prayer for Christian Unity (18 – 25 January 2026)\nChurches have been working together in Maryhill to arrange 5 daily sessions. We will use the materials which have been prepared internationally\, by churches in Armenia. We have learned that the Armenian Church has suffered a lot\, and that the Armenian people spread across the world to escape dangers. We think the materials will be very topical\, to the current talk about migration.\n\nPlease join us for the four short lunchtime sessions of scripture\, prayer and reflection.\nAnd come early for soup\, tea and coffee before hand.\n\nOn the Friday evening\, we plan a short session of scripture\, prayer and reflection followed by cheese and wine social.
URL:https://www.immaculateconception.org.uk/event/prayer-week-christian-unity-called-to-one-hope/
LOCATION:Church Hall\, 2049 Maryhill Road\, Glasgow\, G20 0AA\, United Kingdom
END:VEVENT
END:VCALENDAR