BEGIN:VCALENDAR
VERSION:2.0
PRODID:-//Immaculate Conception - ECPv6.15.20//NONSGML v1.0//EN
CALSCALE:GREGORIAN
METHOD:PUBLISH
X-ORIGINAL-URL:https://www.immaculateconception.org.uk
X-WR-CALDESC:Events for Immaculate Conception
REFRESH-INTERVAL;VALUE=DURATION:PT1H
X-Robots-Tag:noindex
X-PUBLISHED-TTL:PT1H
BEGIN:VTIMEZONE
TZID:UTC
BEGIN:STANDARD
TZOFFSETFROM:+0000
TZOFFSETTO:+0000
TZNAME:UTC
DTSTART:20250101T000000
END:STANDARD
END:VTIMEZONE
BEGIN:VEVENT
DTSTART;TZID=UTC:20260129T103000
DTEND;TZID=UTC:20260129T140000
DTSTAMP:20260422T111124
CREATED:20251212T160430Z
LAST-MODIFIED:20251212T160430Z
UID:3145-1769682600-1769695200@www.immaculateconception.org.uk
SUMMARY:Maccy Cafe
DESCRIPTION:Come and join us in the hall for a cuppa\, a breakfast roll\, lunch or just a wee chat. You are all welcome!
URL:https://www.immaculateconception.org.uk/event/maccy-cafe-2/2026-01-29/
END:VEVENT
END:VCALENDAR