BEGIN:VCALENDAR
VERSION:2.0
PRODID:-//Immaculate Conception - ECPv6.15.20//NONSGML v1.0//EN
CALSCALE:GREGORIAN
METHOD:PUBLISH
X-ORIGINAL-URL:https://www.immaculateconception.org.uk
X-WR-CALDESC:Events for Immaculate Conception
REFRESH-INTERVAL;VALUE=DURATION:PT1H
X-Robots-Tag:noindex
X-PUBLISHED-TTL:PT1H
BEGIN:VTIMEZONE
TZID:UTC
BEGIN:STANDARD
TZOFFSETFROM:+0000
TZOFFSETTO:+0000
TZNAME:UTC
DTSTART:20240101T000000
END:STANDARD
END:VTIMEZONE
BEGIN:VEVENT
DTSTART;TZID=UTC:20250320T190000
DTEND;TZID=UTC:20250320T210000
DTSTAMP:20260421T235250
CREATED:20250308T002632Z
LAST-MODIFIED:20250308T002632Z
UID:2921-1742497200-1742504400@www.immaculateconception.org.uk
SUMMARY:Even the Winds
DESCRIPTION:Lenten dramatic reflection on the last few days of Jesus
URL:https://www.immaculateconception.org.uk/event/even-the-winds/
ATTACH;FMTTYPE=image/jpeg:https://www.immaculateconception.org.uk/wp-content/uploads/2025/03/even-the-winds.jpg
END:VEVENT
BEGIN:VEVENT
DTSTART;TZID=UTC:20250412T110000
DTEND;TZID=UTC:20250412T130000
DTSTAMP:20260421T235250
CREATED:20221201T232850Z
LAST-MODIFIED:20250412T070046Z
UID:1208-1744455600-1744462800@www.immaculateconception.org.uk
SUMMARY:‘Pop up & Reach Out’
DESCRIPTION:Come say hello at the “pop up & reach out” at ASDA – 11am to 1pm. We have goody bags for the kids – tea and coffee for all and a card giving details of how you can share Holy Week with the Maryhill Christian churches.
URL:https://www.immaculateconception.org.uk/event/pop-up-reach-out/
ATTACH;FMTTYPE=image/jpeg:https://www.immaculateconception.org.uk/wp-content/uploads/2022/12/pop-up-cafe-.jpg
END:VEVENT
BEGIN:VEVENT
DTSTART;TZID=UTC:20250413T080000
DTEND;TZID=UTC:20250419T223000
DTSTAMP:20260421T235250
CREATED:20250412T073423Z
LAST-MODIFIED:20250412T073544Z
UID:2950-1744531200-1745101800@www.immaculateconception.org.uk
SUMMARY:Welcome to Holy Week
DESCRIPTION:You are invited to join together and make this our holiest time.\nFrom the palms and cries of “Hosanna”; to the washing of the feet; through bread and wine – His very self. Come and remember Him\, on the cross for love of you. Then let’s rejoice that we are a people who are saved – we are for life! Come and welcome our new sisters and brothers at the Easter Vigil!
URL:https://www.immaculateconception.org.uk/event/welcome-to-holy-week/
ATTACH;FMTTYPE=image/jpeg:https://www.immaculateconception.org.uk/wp-content/uploads/2024/03/Holy-Week.jpg
END:VEVENT
BEGIN:VEVENT
DTSTART;TZID=UTC:20250415T110000
DTEND;TZID=UTC:20250415T184500
DTSTAMP:20260421T235250
CREATED:20250208T165806Z
LAST-MODIFIED:20250412T072523Z
UID:2871-1744714800-1744742700@www.immaculateconception.org.uk
SUMMARY:Adoration of the Blessed Sacrament
DESCRIPTION:Come and have some quiet time in adoration. During this Holy Week\, the church will be open between 11.00am and 6.45pm on Tuesday.
URL:https://www.immaculateconception.org.uk/event/adoration-of-the-blessed-sacrament-3/2025-04-15/
ATTACH;FMTTYPE=image/jpeg:https://www.immaculateconception.org.uk/wp-content/uploads/2023/07/Eucharistic-adoration.jpg
END:VEVENT
BEGIN:VEVENT
DTSTART;TZID=UTC:20250415T190000
DTEND;TZID=UTC:20250415T200000
DTSTAMP:20260421T235250
CREATED:20230403T154825Z
LAST-MODIFIED:20250412T070540Z
UID:1689-1744743600-1744747200@www.immaculateconception.org.uk
SUMMARY:Parish Penitential Service
DESCRIPTION:As we approach Easter\, we will think about our own baptism and our fidelity to the promises that were made for us. For the times we have not lived up to that we come together as a community and ask for forgiveness.
URL:https://www.immaculateconception.org.uk/event/parish-penitential-service/
ATTACH;FMTTYPE=image/jpeg:https://www.immaculateconception.org.uk/wp-content/uploads/2023/04/penitential-service-scaled.jpg
END:VEVENT
BEGIN:VEVENT
DTSTART;TZID=UTC:20250416T190000
DTEND;TZID=UTC:20250416T200000
DTSTAMP:20260421T235250
CREATED:20230403T155040Z
LAST-MODIFIED:20250412T070849Z
UID:1692-1744830000-1744833600@www.immaculateconception.org.uk
SUMMARY:Ecumenical Service
DESCRIPTION:We are delighted to host our joint worship with the Maryhill churches for Holy Week. Everyone is welcome to the church to come and pray together and to meet in the hall afterwards for fellowship.
URL:https://www.immaculateconception.org.uk/event/ecumenical-service/
ATTACH;FMTTYPE=image/jpeg:https://www.immaculateconception.org.uk/wp-content/uploads/2023/04/shared-worship-scaled.jpg
END:VEVENT
BEGIN:VEVENT
DTSTART;TZID=UTC:20250417T190000
DTEND;TZID=UTC:20250417T200000
DTSTAMP:20260421T235250
CREATED:20230404T155837Z
LAST-MODIFIED:20250412T071118Z
UID:1703-1744916400-1744920000@www.immaculateconception.org.uk
SUMMARY:Holy Thursday
DESCRIPTION:7pm Evening Mass of the Lord’s Supper; the washing of feet and procession to the garden of Gethsemane.
URL:https://www.immaculateconception.org.uk/event/holy-thursday/
ATTACH;FMTTYPE=image/jpeg:https://www.immaculateconception.org.uk/wp-content/uploads/2023/04/Holy-Thursday.jpg
END:VEVENT
BEGIN:VEVENT
DTSTART;TZID=UTC:20250418T150000
DTEND;TZID=UTC:20250418T160000
DTSTAMP:20260421T235250
CREATED:20230404T160223Z
LAST-MODIFIED:20250412T071219Z
UID:1711-1744988400-1744992000@www.immaculateconception.org.uk
SUMMARY:Good Friday
DESCRIPTION:3pm Solemn Passion of the Lord and veneration of the cross (with children’s liturgy)
URL:https://www.immaculateconception.org.uk/event/good-friday/
ATTACH;FMTTYPE=image/jpeg:https://www.immaculateconception.org.uk/wp-content/uploads/2023/04/Good-Friday-scaled.jpg
END:VEVENT
BEGIN:VEVENT
DTSTART;TZID=UTC:20250419T210000
DTEND;TZID=UTC:20250419T220000
DTSTAMP:20260421T235250
CREATED:20230404T160525Z
LAST-MODIFIED:20250412T071455Z
UID:1719-1745096400-1745100000@www.immaculateconception.org.uk
SUMMARY:Holy Saturday
DESCRIPTION:Solemn Easter Vigil of the Resurrection and the Sacraments of initiation for adults
URL:https://www.immaculateconception.org.uk/event/holy-saturday/
ATTACH;FMTTYPE=image/jpeg:https://www.immaculateconception.org.uk/wp-content/uploads/2023/04/Holy-saturday.jpg
END:VEVENT
BEGIN:VEVENT
DTSTART;TZID=UTC:20250513T113000
DTEND;TZID=UTC:20250513T150000
DTSTAMP:20260421T235250
CREATED:20230803T193124Z
LAST-MODIFIED:20250511T182500Z
UID:2211-1747135800-1747148400@www.immaculateconception.org.uk
SUMMARY:Tuesday Club 11.30 - 3pm
DESCRIPTION:Here is the parish – friendship\, fun\, a dance and a bowl of home-made soup\, home baking. A game of bingo – of course! A programme of events throughout the year.  And a warm welcome. 
URL:https://www.immaculateconception.org.uk/event/tuesday-club-11-30-3pm/2025-05-13/
ATTACH;FMTTYPE=image/jpeg:https://www.immaculateconception.org.uk/wp-content/uploads/2023/08/goulash-4014661_640.jpg
END:VEVENT
BEGIN:VEVENT
DTSTART;TZID=UTC:20250515T103000
DTEND;TZID=UTC:20250515T140000
DTSTAMP:20260421T235250
CREATED:20250208T170505Z
LAST-MODIFIED:20251103T195739Z
UID:2883-1747305000-1747317600@www.immaculateconception.org.uk
SUMMARY:Maccy Caffy
DESCRIPTION:Come and join us in the hall for a cuppa\, a breakfast roll\, lunch or just a wee chat. You are all welcome!
URL:https://www.immaculateconception.org.uk/event/maccy-caffy/2025-05-15/
ATTACH;FMTTYPE=image/jpeg:https://www.immaculateconception.org.uk/wp-content/uploads/2023/08/Sunday-Tea-Bar.jpg
END:VEVENT
BEGIN:VEVENT
DTSTART;TZID=UTC:20250520T113000
DTEND;TZID=UTC:20250520T150000
DTSTAMP:20260421T235250
CREATED:20230803T193124Z
LAST-MODIFIED:20230803T193124Z
UID:2978-1747740600-1747753200@www.immaculateconception.org.uk
SUMMARY:Tuesday Club 11.30 - 3pm
DESCRIPTION:Here is the parish – friendship\, fun\, a dance and a bowl of home-made soup\, home baking. A game of bingo – of course! A programme of events throughout the year.  And a warm welcome. 
URL:https://www.immaculateconception.org.uk/event/tuesday-club-11-30-3pm/2025-05-20/
ATTACH;FMTTYPE=image/jpeg:https://www.immaculateconception.org.uk/wp-content/uploads/2023/08/goulash-4014661_640.jpg
END:VEVENT
BEGIN:VEVENT
DTSTART;TZID=UTC:20250522T103000
DTEND;TZID=UTC:20250522T140000
DTSTAMP:20260421T235250
CREATED:20250208T170505Z
LAST-MODIFIED:20251103T195739Z
UID:2966-1747909800-1747922400@www.immaculateconception.org.uk
SUMMARY:Maccy Caffy
DESCRIPTION:Come and join us in the hall for a cuppa\, a breakfast roll\, lunch or just a wee chat. You are all welcome!
URL:https://www.immaculateconception.org.uk/event/maccy-caffy/2025-05-22/
ATTACH;FMTTYPE=image/jpeg:https://www.immaculateconception.org.uk/wp-content/uploads/2023/08/Sunday-Tea-Bar.jpg
END:VEVENT
BEGIN:VEVENT
DTSTART;TZID=UTC:20250527T113000
DTEND;TZID=UTC:20250527T150000
DTSTAMP:20260421T235250
CREATED:20230803T193124Z
LAST-MODIFIED:20230803T193124Z
UID:2979-1748345400-1748358000@www.immaculateconception.org.uk
SUMMARY:Tuesday Club 11.30 - 3pm
DESCRIPTION:Here is the parish – friendship\, fun\, a dance and a bowl of home-made soup\, home baking. A game of bingo – of course! A programme of events throughout the year.  And a warm welcome. 
URL:https://www.immaculateconception.org.uk/event/tuesday-club-11-30-3pm/2025-05-27/
ATTACH;FMTTYPE=image/jpeg:https://www.immaculateconception.org.uk/wp-content/uploads/2023/08/goulash-4014661_640.jpg
END:VEVENT
BEGIN:VEVENT
DTSTART;TZID=UTC:20250529T103000
DTEND;TZID=UTC:20250529T140000
DTSTAMP:20260421T235250
CREATED:20250208T170505Z
LAST-MODIFIED:20251103T195739Z
UID:2967-1748514600-1748527200@www.immaculateconception.org.uk
SUMMARY:Maccy Caffy
DESCRIPTION:Come and join us in the hall for a cuppa\, a breakfast roll\, lunch or just a wee chat. You are all welcome!
URL:https://www.immaculateconception.org.uk/event/maccy-caffy/2025-05-29/
ATTACH;FMTTYPE=image/jpeg:https://www.immaculateconception.org.uk/wp-content/uploads/2023/08/Sunday-Tea-Bar.jpg
END:VEVENT
BEGIN:VEVENT
DTSTART;TZID=UTC:20250603T113000
DTEND;TZID=UTC:20250603T150000
DTSTAMP:20260421T235250
CREATED:20230803T193124Z
LAST-MODIFIED:20230803T193124Z
UID:2980-1748950200-1748962800@www.immaculateconception.org.uk
SUMMARY:Tuesday Club 11.30 - 3pm
DESCRIPTION:Here is the parish – friendship\, fun\, a dance and a bowl of home-made soup\, home baking. A game of bingo – of course! A programme of events throughout the year.  And a warm welcome. 
URL:https://www.immaculateconception.org.uk/event/tuesday-club-11-30-3pm/2025-06-03/
ATTACH;FMTTYPE=image/jpeg:https://www.immaculateconception.org.uk/wp-content/uploads/2023/08/goulash-4014661_640.jpg
END:VEVENT
BEGIN:VEVENT
DTSTART;TZID=UTC:20250605T103000
DTEND;TZID=UTC:20250605T140000
DTSTAMP:20260421T235250
CREATED:20250208T170505Z
LAST-MODIFIED:20251103T195739Z
UID:2968-1749119400-1749132000@www.immaculateconception.org.uk
SUMMARY:Maccy Caffy
DESCRIPTION:Come and join us in the hall for a cuppa\, a breakfast roll\, lunch or just a wee chat. You are all welcome!
URL:https://www.immaculateconception.org.uk/event/maccy-caffy/2025-06-05/
ATTACH;FMTTYPE=image/jpeg:https://www.immaculateconception.org.uk/wp-content/uploads/2023/08/Sunday-Tea-Bar.jpg
END:VEVENT
BEGIN:VEVENT
DTSTART;TZID=UTC:20250610T113000
DTEND;TZID=UTC:20250610T150000
DTSTAMP:20260421T235250
CREATED:20230803T193124Z
LAST-MODIFIED:20230803T193124Z
UID:2981-1749555000-1749567600@www.immaculateconception.org.uk
SUMMARY:Tuesday Club 11.30 - 3pm
DESCRIPTION:Here is the parish – friendship\, fun\, a dance and a bowl of home-made soup\, home baking. A game of bingo – of course! A programme of events throughout the year.  And a warm welcome. 
URL:https://www.immaculateconception.org.uk/event/tuesday-club-11-30-3pm/2025-06-10/
ATTACH;FMTTYPE=image/jpeg:https://www.immaculateconception.org.uk/wp-content/uploads/2023/08/goulash-4014661_640.jpg
END:VEVENT
BEGIN:VEVENT
DTSTART;TZID=UTC:20250612T103000
DTEND;TZID=UTC:20250612T140000
DTSTAMP:20260421T235250
CREATED:20250208T170505Z
LAST-MODIFIED:20251103T195740Z
UID:2969-1749724200-1749736800@www.immaculateconception.org.uk
SUMMARY:Maccy Caffy
DESCRIPTION:Come and join us in the hall for a cuppa\, a breakfast roll\, lunch or just a wee chat. You are all welcome!
URL:https://www.immaculateconception.org.uk/event/maccy-caffy/2025-06-12/
ATTACH;FMTTYPE=image/jpeg:https://www.immaculateconception.org.uk/wp-content/uploads/2023/08/Sunday-Tea-Bar.jpg
END:VEVENT
BEGIN:VEVENT
DTSTART;TZID=UTC:20250617T113000
DTEND;TZID=UTC:20250617T150000
DTSTAMP:20260421T235250
CREATED:20230803T193124Z
LAST-MODIFIED:20230803T193124Z
UID:2983-1750159800-1750172400@www.immaculateconception.org.uk
SUMMARY:Tuesday Club 11.30 - 3pm
DESCRIPTION:Here is the parish – friendship\, fun\, a dance and a bowl of home-made soup\, home baking. A game of bingo – of course! A programme of events throughout the year.  And a warm welcome. 
URL:https://www.immaculateconception.org.uk/event/tuesday-club-11-30-3pm/2025-06-17/
ATTACH;FMTTYPE=image/jpeg:https://www.immaculateconception.org.uk/wp-content/uploads/2023/08/goulash-4014661_640.jpg
END:VEVENT
BEGIN:VEVENT
DTSTART;TZID=UTC:20250619T103000
DTEND;TZID=UTC:20250619T140000
DTSTAMP:20260421T235250
CREATED:20250208T170505Z
LAST-MODIFIED:20251103T195740Z
UID:2970-1750329000-1750341600@www.immaculateconception.org.uk
SUMMARY:Maccy Caffy
DESCRIPTION:Come and join us in the hall for a cuppa\, a breakfast roll\, lunch or just a wee chat. You are all welcome!
URL:https://www.immaculateconception.org.uk/event/maccy-caffy/2025-06-19/
ATTACH;FMTTYPE=image/jpeg:https://www.immaculateconception.org.uk/wp-content/uploads/2023/08/Sunday-Tea-Bar.jpg
END:VEVENT
BEGIN:VEVENT
DTSTART;TZID=UTC:20250624T113000
DTEND;TZID=UTC:20250624T150000
DTSTAMP:20260421T235250
CREATED:20230803T193124Z
LAST-MODIFIED:20230803T193124Z
UID:2984-1750764600-1750777200@www.immaculateconception.org.uk
SUMMARY:Tuesday Club 11.30 - 3pm
DESCRIPTION:Here is the parish – friendship\, fun\, a dance and a bowl of home-made soup\, home baking. A game of bingo – of course! A programme of events throughout the year.  And a warm welcome. 
URL:https://www.immaculateconception.org.uk/event/tuesday-club-11-30-3pm/2025-06-24/
ATTACH;FMTTYPE=image/jpeg:https://www.immaculateconception.org.uk/wp-content/uploads/2023/08/goulash-4014661_640.jpg
END:VEVENT
BEGIN:VEVENT
DTSTART;TZID=UTC:20250626T103000
DTEND;TZID=UTC:20250626T140000
DTSTAMP:20260421T235250
CREATED:20250208T170505Z
LAST-MODIFIED:20251103T195740Z
UID:2971-1750933800-1750946400@www.immaculateconception.org.uk
SUMMARY:Maccy Caffy
DESCRIPTION:Come and join us in the hall for a cuppa\, a breakfast roll\, lunch or just a wee chat. You are all welcome!
URL:https://www.immaculateconception.org.uk/event/maccy-caffy/2025-06-26/
ATTACH;FMTTYPE=image/jpeg:https://www.immaculateconception.org.uk/wp-content/uploads/2023/08/Sunday-Tea-Bar.jpg
END:VEVENT
BEGIN:VEVENT
DTSTART;TZID=UTC:20250904T190000
DTEND;TZID=UTC:20250904T200000
DTSTAMP:20260421T235250
CREATED:20250830T082630Z
LAST-MODIFIED:20251103T195623Z
UID:3037-1757012400-1757016000@www.immaculateconception.org.uk
SUMMARY:Thinking of joining the church?
DESCRIPTION:New Session for RCIA – Thinking of joining the Church? \nBaptised but never made your Holy Communion or Confirmation? This programme is for you—culminating at the Easter Vigil. We are inviting you to a preliminary gettogether for a cuppa\, a chat to explain what is involved. \nThursday 4th September at 7pm in the chapel house. Nocommitment—just info to help you decide! Look forward to seeing you. If you know of someone interested in this \ntell them and even bring them along!
URL:https://www.immaculateconception.org.uk/event/thinking-of-joining-the-church/
END:VEVENT
BEGIN:VEVENT
DTSTART;TZID=UTC:20251106T210000
DTEND;TZID=UTC:20251106T213000
DTSTAMP:20260421T235250
CREATED:20251106T201827Z
LAST-MODIFIED:20251106T201827Z
UID:3089-1762462800-1762464600@www.immaculateconception.org.uk
SUMMARY:Website Training
DESCRIPTION:Come learn
URL:https://www.immaculateconception.org.uk/event/website-training/
LOCATION:Church Hall\, 2049 Maryhill Road\, Glasgow\, G20 0AA\, United Kingdom
ATTACH;FMTTYPE=image/png:https://www.immaculateconception.org.uk/wp-content/uploads/2025/11/IM-Church-Training-Graphic.png
END:VEVENT
BEGIN:VEVENT
DTSTART;TZID=UTC:20251213T103000
DTEND;TZID=UTC:20251213T130000
DTSTAMP:20260421T235250
CREATED:20251212T154839Z
LAST-MODIFIED:20251212T154839Z
UID:3121-1765621800-1765630800@www.immaculateconception.org.uk
SUMMARY:TWMM - Pop Up Cafe at Asda
DESCRIPTION:Advent & Christmas reach\nout at ASDA\, Sat 13th Dec\, 10.30 – 1pm. We’ve core\nvolunteers\, but want a bigger team this year\, our\n175th pop-up cafe. Some young folk give us a hand?
URL:https://www.immaculateconception.org.uk/event/twmm-pop-up-cafe-at-asda/
LOCATION:Asda Maryhill\, 20 Rothes Drive\, Glasgow\, G23 5EZ\, United Kingdom
END:VEVENT
BEGIN:VEVENT
DTSTART;VALUE=DATE:20251216
DTEND;VALUE=DATE:20251217
DTSTAMP:20260421T235250
CREATED:20251212T155029Z
LAST-MODIFIED:20251212T155129Z
UID:3124-1765843200-1765929599@www.immaculateconception.org.uk
SUMMARY:Tuesday club Panto!
DESCRIPTION:
URL:https://www.immaculateconception.org.uk/event/tuesday-club-panto/
END:VEVENT
BEGIN:VEVENT
DTSTART;TZID=UTC:20251217T190000
DTEND;TZID=UTC:20251217T200000
DTSTAMP:20260421T235250
CREATED:20251212T155251Z
LAST-MODIFIED:20251212T155251Z
UID:3126-1765998000-1766001600@www.immaculateconception.org.uk
SUMMARY:Penitential Service
DESCRIPTION:Parish Penitential Service allowing us to gather for a prayerful moment asking for forgiveness and seeking to be better disciples. There will be other priests to help and refreshments in the hall after.
URL:https://www.immaculateconception.org.uk/event/penitential-service-3/
END:VEVENT
BEGIN:VEVENT
DTSTART;TZID=UTC:20251218T103000
DTEND;TZID=UTC:20251218T140000
DTSTAMP:20260421T235250
CREATED:20251212T155413Z
LAST-MODIFIED:20251212T155626Z
UID:3128-1766053800-1766066400@www.immaculateconception.org.uk
SUMMARY:Maccy Cafe
DESCRIPTION:Come and join us in the hall for a cuppa\, a breakfast roll\, lunch or just a wee chat. You are all welcome!
URL:https://www.immaculateconception.org.uk/event/maccy-cafe/
END:VEVENT
BEGIN:VEVENT
DTSTART;VALUE=DATE:20251227
DTEND;VALUE=DATE:20251228
DTSTAMP:20260421T235250
CREATED:20251212T155925Z
LAST-MODIFIED:20251212T155925Z
UID:3132-1766793600-1766879999@www.immaculateconception.org.uk
SUMMARY:Men's Breakfast
DESCRIPTION:
URL:https://www.immaculateconception.org.uk/event/mens-breakfast-9/
END:VEVENT
END:VCALENDAR