BEGIN:VCALENDAR
VERSION:2.0
PRODID:-//Immaculate Conception - ECPv6.15.20//NONSGML v1.0//EN
CALSCALE:GREGORIAN
METHOD:PUBLISH
X-WR-CALNAME:Immaculate Conception
X-ORIGINAL-URL:https://www.immaculateconception.org.uk
X-WR-CALDESC:Events for Immaculate Conception
REFRESH-INTERVAL;VALUE=DURATION:PT1H
X-Robots-Tag:noindex
X-PUBLISHED-TTL:PT1H
BEGIN:VTIMEZONE
TZID:UTC
BEGIN:STANDARD
TZOFFSETFROM:+0000
TZOFFSETTO:+0000
TZNAME:UTC
DTSTART:20220101T000000
END:STANDARD
END:VTIMEZONE
BEGIN:VEVENT
DTSTART;VALUE=DATE:20230226
DTEND;VALUE=DATE:20230227
DTSTAMP:20260422T221734
CREATED:20230131T223228Z
LAST-MODIFIED:20230131T223228Z
UID:1534-1677369600-1677455999@www.immaculateconception.org.uk
SUMMARY:Safeguarding statement
DESCRIPTION:Safeguarding statement. Each year we take the opportunity to make the congregation aware of our safeguarding policy. Pauline – our safeguarding co-ordinator – will present the statement at all the Masses this weekend.
URL:https://www.immaculateconception.org.uk/event/safeguarding-statement/
ATTACH;FMTTYPE=image/jpeg:https://www.immaculateconception.org.uk/wp-content/uploads/2023/01/feb-26th.jpg
END:VEVENT
BEGIN:VEVENT
DTSTART;TZID=UTC:20230225T093000
DTEND;TZID=UTC:20230225T093000
DTSTAMP:20260422T221734
CREATED:20230131T222402Z
LAST-MODIFIED:20230131T222402Z
UID:1530-1677317400-1677317400@www.immaculateconception.org.uk
SUMMARY:Men’s breakfast
DESCRIPTION:Men’s breakfast. This month’s breakfast in the Viking Lounge at 9.30 – all welcome!
URL:https://www.immaculateconception.org.uk/event/mens-breakfast-5/
ATTACH;FMTTYPE=image/jpeg:https://www.immaculateconception.org.uk/wp-content/uploads/2023/01/feb-25-breakfast-2.jpg
END:VEVENT
BEGIN:VEVENT
DTSTART;VALUE=DATE:20230225
DTEND;VALUE=DATE:20230226
DTSTAMP:20260422T221734
CREATED:20230131T222639Z
LAST-MODIFIED:20230131T222639Z
UID:1532-1677283200-1677369599@www.immaculateconception.org.uk
SUMMARY:RCIA Retreat day
DESCRIPTION:RCIA Retreat day. Our 11 friends who are joining the church at Easter will be at day-retreat today. Lent is an intense time for them as they draw close to Jesus. Lets pray for them – and for each other!
URL:https://www.immaculateconception.org.uk/event/rcia-retreat-day/
ATTACH;FMTTYPE=image/webp:https://www.immaculateconception.org.uk/wp-content/uploads/2023/01/feb-25-retreat.webp
END:VEVENT
BEGIN:VEVENT
DTSTART;TZID=UTC:20230224T190000
DTEND;TZID=UTC:20230224T190000
DTSTAMP:20260422T221734
CREATED:20230131T222234Z
LAST-MODIFIED:20230131T222234Z
UID:1528-1677265200-1677265200@www.immaculateconception.org.uk
SUMMARY:Stations of the Cross
DESCRIPTION:Day of sorrow and shame for the horror of sexual abuse by clergy and within the life of our church. This first Friday of lent we beg healing for victims and forgiveness for this great stain. Stations of the Cross in the church at 7pm
URL:https://www.immaculateconception.org.uk/event/stations-of-the-cross/
ATTACH;FMTTYPE=image/webp:https://www.immaculateconception.org.uk/wp-content/uploads/2023/01/feb-24-shame.webp
END:VEVENT
BEGIN:VEVENT
DTSTART;VALUE=DATE:20230222
DTEND;VALUE=DATE:20230223
DTSTAMP:20260422T221734
CREATED:20230131T221932Z
LAST-MODIFIED:20230131T221932Z
UID:1526-1677024000-1677110399@www.immaculateconception.org.uk
SUMMARY:Ash Wednesday
DESCRIPTION:Ash Wednesday. Lent means ‘springtime’! This is not only a period of penance – it is a pilgrimage towards the Triduum. Today we impose ashes on us but we will end when we gather at the Easter fire!
URL:https://www.immaculateconception.org.uk/event/ash-wednesday/
ATTACH;FMTTYPE=image/jpeg:https://www.immaculateconception.org.uk/wp-content/uploads/2023/01/feb-22-ash-wed.jpg
END:VEVENT
BEGIN:VEVENT
DTSTART;VALUE=DATE:20230221
DTEND;VALUE=DATE:20230222
DTSTAMP:20260422T221734
CREATED:20230131T221359Z
LAST-MODIFIED:20230131T221359Z
UID:1524-1676937600-1677023999@www.immaculateconception.org.uk
SUMMARY:Justice & Peace formation
DESCRIPTION:Justice & Peace formation. Our team has organised 4 seminars – Catholic Social Teaching and real live issues. This\, the last\, is on tackling dehumanising poverty’. Come and take part with Dr Mary Cullen & Dr Duncan McLaren. Since its the last and is Pancake Tuesday we’re having some cheese and wine!
URL:https://www.immaculateconception.org.uk/event/justice-peace-formation/
ATTACH;FMTTYPE=image/jpeg:https://www.immaculateconception.org.uk/wp-content/uploads/2023/01/feb-21-talk.jpg
END:VEVENT
BEGIN:VEVENT
DTSTART;VALUE=DATE:20230221
DTEND;VALUE=DATE:20230222
DTSTAMP:20260422T221734
CREATED:20230131T221224Z
LAST-MODIFIED:20230131T221224Z
UID:1522-1676937600-1677023999@www.immaculateconception.org.uk
SUMMARY:Pancake Tuesday
DESCRIPTION:Pancake Tuesday. The day before the great fast! Why not come to Mass and then pop into the hall for a cuppa a chat and – of course – a pancake!
URL:https://www.immaculateconception.org.uk/event/pancake-tuesday/
ATTACH;FMTTYPE=image/webp:https://www.immaculateconception.org.uk/wp-content/uploads/2023/01/feb-21-pancakes.webp
END:VEVENT
BEGIN:VEVENT
DTSTART;VALUE=DATE:20230219
DTEND;VALUE=DATE:20230220
DTSTAMP:20260422T221734
CREATED:20230210T081328Z
LAST-MODIFIED:20230210T081328Z
UID:1551-1676764800-1676851199@www.immaculateconception.org.uk
SUMMARY:SCIAF
DESCRIPTION:Make sure and get your wee box and this year’s campaign material. The fourth Sunday of Lent (19th March) is the most important collection of the year. Watch out for details of our SCIAF supper!
URL:https://www.immaculateconception.org.uk/event/sciaf/
ATTACH;FMTTYPE=image/jpeg:https://www.immaculateconception.org.uk/wp-content/uploads/2023/02/SCIAF.jpg
END:VEVENT
BEGIN:VEVENT
DTSTART;VALUE=DATE:20230219
DTEND;VALUE=DATE:20230220
DTSTAMP:20260422T221734
CREATED:20230131T221012Z
LAST-MODIFIED:20230131T221012Z
UID:1520-1676764800-1676851199@www.immaculateconception.org.uk
SUMMARY:Sunday 7(A)
DESCRIPTION:Sunday 7(A) The teachings of Jesus invariably turn the world upside down – never more than today when he teaches us to love our enemies. Can you imagine Putin hugging and apologising to Zelenskyy? Or if you went to the person you like least and asked them for coffee? There is a great poster which\, tongue-in-cheek\, captures this. “Love your enemies; it’ll drive them mad”!
URL:https://www.immaculateconception.org.uk/event/sunday-7a/
ATTACH;FMTTYPE=image/jpeg:https://www.immaculateconception.org.uk/wp-content/uploads/2023/01/feb-19-love.jpg
END:VEVENT
BEGIN:VEVENT
DTSTART;VALUE=DATE:20230218
DTEND;VALUE=DATE:20230219
DTSTAMP:20260422T221734
CREATED:20230131T220447Z
LAST-MODIFIED:20230131T220447Z
UID:1516-1676678400-1676764799@www.immaculateconception.org.uk
SUMMARY:Valentine’s Dance
DESCRIPTION:Valentine’s Dance. You won’t get a better bargain anywhere – tickets available now for just £5. Music by Cha Cairns\, dancing\, licensed bar and a chance to catch up with all the chat! If you’ve never been give it a go! Tickets at Church or message us
URL:https://www.immaculateconception.org.uk/event/valentines-dance/
ATTACH;FMTTYPE=image/jpeg:https://www.immaculateconception.org.uk/wp-content/uploads/2023/01/feb-18-valentine.jpg
END:VEVENT
BEGIN:VEVENT
DTSTART;VALUE=DATE:20230213
DTEND;VALUE=DATE:20230214
DTSTAMP:20260422T221734
CREATED:20230131T220810Z
LAST-MODIFIED:20230131T223810Z
UID:1518-1676246400-1676332799@www.immaculateconception.org.uk
SUMMARY:Midterm school holiday
DESCRIPTION:Midterm school holiday
URL:https://www.immaculateconception.org.uk/event/midterm-school-holiday/
ATTACH;FMTTYPE=image/jpeg:https://www.immaculateconception.org.uk/wp-content/uploads/2023/01/feb13-schools-out.jpg
END:VEVENT
BEGIN:VEVENT
DTSTART;VALUE=DATE:20230212
DTEND;VALUE=DATE:20230213
DTSTAMP:20260422T221734
CREATED:20230131T213230Z
LAST-MODIFIED:20230131T213230Z
UID:1514-1676160000-1676246399@www.immaculateconception.org.uk
SUMMARY:Sunday 6(A)
DESCRIPTION:Sunday 6(A) All religions – all institutions – have laws\, codes of practice and expectations. We are no different. Today\, however\, Jesus tells us that these expectations and regulations are not just external demands but should come from hearts that are pure and loving.
URL:https://www.immaculateconception.org.uk/event/sunday-6a/
ATTACH;FMTTYPE=image/webp:https://www.immaculateconception.org.uk/wp-content/uploads/2023/01/feb-12th-heart.webp
END:VEVENT
BEGIN:VEVENT
DTSTART;VALUE=DATE:20230211
DTEND;VALUE=DATE:20230212
DTSTAMP:20260422T221734
CREATED:20230131T213013Z
LAST-MODIFIED:20230131T213013Z
UID:1512-1676073600-1676159999@www.immaculateconception.org.uk
SUMMARY:Our Lady of Lourdes
DESCRIPTION:Our Lady of Lourdes. World Day of Prayer for the sick as we recall Mary’s message at Lourdes. Those who are ageing\, unwell – short or long term – anyone who is diminished by physical conditions. You are special and precious to God – and to us!
URL:https://www.immaculateconception.org.uk/event/our-lady-of-lourdes/
ATTACH;FMTTYPE=image/webp:https://www.immaculateconception.org.uk/wp-content/uploads/2023/01/feb-11-lourdes.webp
END:VEVENT
BEGIN:VEVENT
DTSTART;VALUE=DATE:20230208
DTEND;VALUE=DATE:20230320
DTSTAMP:20260422T221734
CREATED:20230131T212843Z
LAST-MODIFIED:20230131T212843Z
UID:1509-1675814400-1679270399@www.immaculateconception.org.uk
SUMMARY:Livestream
DESCRIPTION:Our livestream will be down for 10 days for rest and maintenance. Please check in again with us February 20th
URL:https://www.immaculateconception.org.uk/event/livestream/
ATTACH;FMTTYPE=image/png:https://www.immaculateconception.org.uk/wp-content/uploads/2023/01/church-tv.png
END:VEVENT
BEGIN:VEVENT
DTSTART;VALUE=DATE:20230208
DTEND;VALUE=DATE:20230209
DTSTAMP:20260422T221734
CREATED:20230131T212438Z
LAST-MODIFIED:20230131T212438Z
UID:1507-1675814400-1675900799@www.immaculateconception.org.uk
SUMMARY:Fr Jim - holiday
DESCRIPTION:Fr Jim goes on holiday (Wit? Again!) Fr Steve McKend SX covering.
URL:https://www.immaculateconception.org.uk/event/fr-jim-holiday/
ATTACH;FMTTYPE=image/webp:https://www.immaculateconception.org.uk/wp-content/uploads/2023/01/feb-8-holiday.webp
END:VEVENT
BEGIN:VEVENT
DTSTART;TZID=UTC:20230206T190000
DTEND;TZID=UTC:20230206T190000
DTSTAMP:20260422T221734
CREATED:20230131T212313Z
LAST-MODIFIED:20230131T212313Z
UID:1505-1675710000-1675710000@www.immaculateconception.org.uk
SUMMARY:Meditation Group
DESCRIPTION:Meditation Group meets in the chapel house Oratory at 7pm. Everyone welcome – especially if your are new to this!
URL:https://www.immaculateconception.org.uk/event/meditation-group-2/
ATTACH;FMTTYPE=image/webp:https://www.immaculateconception.org.uk/wp-content/uploads/2023/01/feb-6-meditation.webp
END:VEVENT
BEGIN:VEVENT
DTSTART;TZID=UTC:20230205T150000
DTEND;TZID=UTC:20230205T150000
DTSTAMP:20260422T221734
CREATED:20230131T211412Z
LAST-MODIFIED:20230131T211412Z
UID:1503-1675609200-1675609200@www.immaculateconception.org.uk
SUMMARY:Celtic Connections Annual Mass
DESCRIPTION:Celtic Connections Annual Mass; Mass of our Celtic roots. 3p.m. Sun 5th Feb. 2023 In St. Aloysius\, Rose St. Glasgow. With Musicians from all over! All welcome
URL:https://www.immaculateconception.org.uk/event/celtic-connections-annual-mass/
ATTACH;FMTTYPE=image/jpeg:https://www.immaculateconception.org.uk/wp-content/uploads/2023/01/Feb-5-Celtic-roots-2.jpg
END:VEVENT
BEGIN:VEVENT
DTSTART;VALUE=DATE:20230205
DTEND;VALUE=DATE:20230206
DTSTAMP:20260422T221734
CREATED:20230131T210827Z
LAST-MODIFIED:20230131T210827Z
UID:1501-1675555200-1675641599@www.immaculateconception.org.uk
SUMMARY:Faith
DESCRIPTION:Sunday 5(A) Faith is not just about our own lives. Like salt and light we are for others! To ‘flavour’ the world with the message of Jesus; to shine out in the darkness so others can see!
URL:https://www.immaculateconception.org.uk/event/faith/
ATTACH;FMTTYPE=image/webp:https://www.immaculateconception.org.uk/wp-content/uploads/2023/01/feb-5-light-shining.webp
END:VEVENT
BEGIN:VEVENT
DTSTART;VALUE=DATE:20230202
DTEND;VALUE=DATE:20230203
DTSTAMP:20260422T221734
CREATED:20230131T210603Z
LAST-MODIFIED:20230131T210603Z
UID:1499-1675296000-1675382399@www.immaculateconception.org.uk
SUMMARY:The Feast of the Presentation of the Lord
DESCRIPTION:The Feast of the Presentation of the Lord recalls Mary and Joseph bringing Jesus to the temple. Simeon recognises Him as the ‘light to enlighten the Gentiles’. Today we bless the candles\, the lights\, used in our worship. We also recall the shining example of those consecrated in religious life; for the Notre Dame Sisters & Marist Brothers who grace our parish! The stained glass in our church depicts this feast.
URL:https://www.immaculateconception.org.uk/event/the-feast-of-the-presentation-of-the-lord/
ATTACH;FMTTYPE=image/jpeg:https://www.immaculateconception.org.uk/wp-content/uploads/2023/01/feb-2-PoL.jpg
END:VEVENT
BEGIN:VEVENT
DTSTART;VALUE=DATE:20230202
DTEND;VALUE=DATE:20230203
DTSTAMP:20260422T221734
CREATED:20230131T210127Z
LAST-MODIFIED:20230131T210127Z
UID:1497-1675296000-1675382399@www.immaculateconception.org.uk
SUMMARY:The Newman Association
DESCRIPTION:The Newman Association (organisation of Catholic men & women keen to deepen faith through study & learning.) The Synod: Reflections on the National Synthesis. A talk by Fr Tom Magill 7.30pm; Thurs 2nd Feb 2023. IC Hall. Non-members welcome – small fee of £3 admission & refreshments.
URL:https://www.immaculateconception.org.uk/event/the-newman-association/
ATTACH;FMTTYPE=image/jpeg:https://www.immaculateconception.org.uk/wp-content/uploads/2023/01/feb-2-newman-2.jpg
END:VEVENT
BEGIN:VEVENT
DTSTART;VALUE=DATE:20230201
DTEND;VALUE=DATE:20230202
DTSTAMP:20260422T221734
CREATED:20230131T210004Z
LAST-MODIFIED:20230131T210004Z
UID:1495-1675209600-1675295999@www.immaculateconception.org.uk
SUMMARY:Parish Social Media
DESCRIPTION:Facebook – If you click on the icon – top left – for Facebook – it will take you to our social media page. Here you will get all daily info and also our parish photo gallery!
URL:https://www.immaculateconception.org.uk/event/parish-social-media/
ATTACH;FMTTYPE=image/webp:https://www.immaculateconception.org.uk/wp-content/uploads/2023/01/feb-1st-facebook.webp
END:VEVENT
BEGIN:VEVENT
DTSTART;VALUE=DATE:20230201
DTEND;VALUE=DATE:20230202
DTSTAMP:20260422T221734
CREATED:20230131T205703Z
LAST-MODIFIED:20230131T205703Z
UID:1470-1675209600-1675295999@www.immaculateconception.org.uk
SUMMARY:What kind of parish are we?
DESCRIPTION:This month\, Pope Francis’ prayer intention is for parishes. Watch the short video and ask – “What kind of parish are we?”
URL:https://www.immaculateconception.org.uk/event/what-kind-of-parish-are-we/
ATTACH;FMTTYPE=image/webp:https://www.immaculateconception.org.uk/wp-content/uploads/2023/01/feb-1-pope.webp
END:VEVENT
BEGIN:VEVENT
DTSTART;VALUE=DATE:20230129
DTEND;VALUE=DATE:20230130
DTSTAMP:20260422T221734
CREATED:20230116T192459Z
LAST-MODIFIED:20230116T192459Z
UID:1435-1674950400-1675036799@www.immaculateconception.org.uk
SUMMARY:World Youth Day Lisbon
DESCRIPTION:We’re chuffed that five of our young folk are going to Lisbon WYD 2023. This weekend is our first fundraiser to help support them with a 2nd collection.
URL:https://www.immaculateconception.org.uk/event/world-youth-day-lisbon/
ATTACH;FMTTYPE=image/jpeg:https://www.immaculateconception.org.uk/wp-content/uploads/2023/01/WYD-Lisbon.jpg
END:VEVENT
BEGIN:VEVENT
DTSTART;VALUE=DATE:20230129
DTEND;VALUE=DATE:20230130
DTSTAMP:20260422T221734
CREATED:20230116T192354Z
LAST-MODIFIED:20230116T192354Z
UID:1433-1674950400-1675036799@www.immaculateconception.org.uk
SUMMARY:4th Sunday Ordinary Time (A)
DESCRIPTION:Today we hear the Beatitudes – one of the most famous “teachings” of Jesus. The Beatitudes are a blueprint for living a good life but\, like most simple\, attractive things\, they contain a huge challenge.
URL:https://www.immaculateconception.org.uk/event/4th-sunday-ordinary-time-a/
ATTACH;FMTTYPE=image/jpeg:https://www.immaculateconception.org.uk/wp-content/uploads/2023/01/Sunday-4-A.jpg
END:VEVENT
BEGIN:VEVENT
DTSTART;TZID=UTC:20230128T140000
DTEND;TZID=UTC:20230128T170000
DTSTAMP:20260422T221734
CREATED:20230116T192057Z
LAST-MODIFIED:20230116T192057Z
UID:1429-1674914400-1674925200@www.immaculateconception.org.uk
SUMMARY:St Vincent de Paul Tea Dance
DESCRIPTION:Our St Vincent de Paul Society are hosting their regular Saturday afternoon tea dance – lunch\, dancing\, music and community! Please note\, you will be issued with a ticket in advance for catering purposes.
URL:https://www.immaculateconception.org.uk/event/st-vincent-de-paul-tea-dance/
ATTACH;FMTTYPE=image/webp:https://www.immaculateconception.org.uk/wp-content/uploads/2023/01/St-Vincent-de-paul.webp
END:VEVENT
BEGIN:VEVENT
DTSTART;TZID=UTC:20230128T093000
DTEND;TZID=UTC:20230128T103000
DTSTAMP:20260422T221734
CREATED:20230116T191900Z
LAST-MODIFIED:20230116T191900Z
UID:1427-1674898200-1674901800@www.immaculateconception.org.uk
SUMMARY:Men's Breakfast
DESCRIPTION:Our first Men’s Breakfast of 2023. We meet at The Viking Lounge (1190 Maryhill Road) – hope to see you there – and if you’ve never been before you’ll be doubly welcome.
URL:https://www.immaculateconception.org.uk/event/mens-breakfast-4/
ATTACH;FMTTYPE=image/jpeg:https://www.immaculateconception.org.uk/wp-content/uploads/2023/01/Mens-breakfast-2.jpg
END:VEVENT
BEGIN:VEVENT
DTSTART;VALUE=DATE:20230128
DTEND;VALUE=DATE:20230129
DTSTAMP:20260422T221734
CREATED:20230116T192219Z
LAST-MODIFIED:20230116T192219Z
UID:1431-1674864000-1674950399@www.immaculateconception.org.uk
SUMMARY:Feast of St Thomas Aquinas
DESCRIPTION:One of our major philosophical and theological influencers in the history of the church. He is patron of St Thomas Aquinas Secondary School which serves a part of our parish community – happy feast day!
URL:https://www.immaculateconception.org.uk/event/feast-of-st-thomas-aquinas/
ATTACH;FMTTYPE=image/png:https://www.immaculateconception.org.uk/wp-content/uploads/2023/01/St-Thomas-Aquinas.png
END:VEVENT
BEGIN:VEVENT
DTSTART;TZID=UTC:20230127T190000
DTEND;TZID=UTC:20230127T200000
DTSTAMP:20260422T221734
CREATED:20230116T191657Z
LAST-MODIFIED:20230116T191657Z
UID:1425-1674846000-1674849600@www.immaculateconception.org.uk
SUMMARY:Week of Prayer for Christian Unity
DESCRIPTION:Our week ends with a time of shared worship with all the Christian churches locally. Join us at 7pm – followed by teas\, coffees and a cheese and wine reception in the hall.
URL:https://www.immaculateconception.org.uk/event/week-of-prayer-for-christian-unity-5/
ATTACH;FMTTYPE=image/jpeg:https://www.immaculateconception.org.uk/wp-content/uploads/2023/01/CUW2.jpg
END:VEVENT
BEGIN:VEVENT
DTSTART;TZID=UTC:20230126T113000
DTEND;TZID=UTC:20230126T123000
DTSTAMP:20260422T221734
CREATED:20230116T191527Z
LAST-MODIFIED:20230116T191527Z
UID:1423-1674732600-1674736200@www.immaculateconception.org.uk
SUMMARY:Week of Prayer for Christian Unity
DESCRIPTION:Why not come and join the Warm Welcome specifically at 11.30 – then you can join in the shared chat and faith discussion – and wait for a plate of soup? Sounds like a plan!
URL:https://www.immaculateconception.org.uk/event/week-of-prayer-for-christian-unity-4/
ATTACH;FMTTYPE=image/jpeg:https://www.immaculateconception.org.uk/wp-content/uploads/2023/01/CUW2.jpg
END:VEVENT
BEGIN:VEVENT
DTSTART;TZID=UTC:20230125T113000
DTEND;TZID=UTC:20230125T123000
DTSTAMP:20260422T221734
CREATED:20230116T191345Z
LAST-MODIFIED:20230116T191345Z
UID:1421-1674646200-1674649800@www.immaculateconception.org.uk
SUMMARY:Week of Prayer for Christian Unity
DESCRIPTION:Everyone welcome to gather for an hour together 11.30-12.30 at Maryhill Ruchill Parish Church (1990 Maryhill Road).
URL:https://www.immaculateconception.org.uk/event/week-of-prayer-for-christian-unity-3/
ATTACH;FMTTYPE=image/jpeg:https://www.immaculateconception.org.uk/wp-content/uploads/2023/01/MRPC.jpg
END:VEVENT
END:VCALENDAR