BEGIN:VCALENDAR
VERSION:2.0
PRODID:-//Immaculate Conception - ECPv6.15.20//NONSGML v1.0//EN
CALSCALE:GREGORIAN
METHOD:PUBLISH
X-WR-CALNAME:Immaculate Conception
X-ORIGINAL-URL:https://www.immaculateconception.org.uk
X-WR-CALDESC:Events for Immaculate Conception
REFRESH-INTERVAL;VALUE=DURATION:PT1H
X-Robots-Tag:noindex
X-PUBLISHED-TTL:PT1H
BEGIN:VTIMEZONE
TZID:UTC
BEGIN:STANDARD
TZOFFSETFROM:+0000
TZOFFSETTO:+0000
TZNAME:UTC
DTSTART:20210101T000000
END:STANDARD
END:VTIMEZONE
BEGIN:VEVENT
DTSTART;TZID=UTC:20220925T150000
DTEND;TZID=UTC:20220925T163000
DTSTAMP:20260423T115526
CREATED:20220917T182111Z
LAST-MODIFIED:20220917T182123Z
UID:912-1664118000-1664123400@www.immaculateconception.org.uk
SUMMARY:National Pilgrimage to Carfin
DESCRIPTION:National Pilgrimage to Carfin in the presence of the Relics of St. Bernadette to mark the Centenary of the Grotto. \nMass at 3pm followed by a Rosary Procession.
URL:https://www.immaculateconception.org.uk/event/national-pilgrimage-to-carfin/
ATTACH;FMTTYPE=image/jpeg:https://www.immaculateconception.org.uk/wp-content/uploads/2022/09/Carfin.jpg
END:VEVENT
BEGIN:VEVENT
DTSTART;TZID=UTC:20220924T090000
DTEND;TZID=UTC:20220924T103000
DTSTAMP:20260423T115526
CREATED:20220915T203218Z
LAST-MODIFIED:20220915T204758Z
UID:884-1664010000-1664015400@www.immaculateconception.org.uk
SUMMARY:Men's Breakfast
DESCRIPTION:Men’s Breakfast at the Tesco Café on Maryhill Road. From 9am and all welcome.
URL:https://www.immaculateconception.org.uk/event/mens-breakfast-2/
ATTACH;FMTTYPE=image/jpeg:https://www.immaculateconception.org.uk/wp-content/uploads/2022/09/mens-breakfast.jpg
END:VEVENT
BEGIN:VEVENT
DTSTART;VALUE=DATE:20220924
DTEND;VALUE=DATE:20220925
DTSTAMP:20260423T115526
CREATED:20220917T181744Z
LAST-MODIFIED:20220917T181931Z
UID:910-1663977600-1664063999@www.immaculateconception.org.uk
SUMMARY:Sunday 26 (C)
DESCRIPTION:Sunday 26 (C) The powerful story of the rich man and Lazarus – the gap between them – is a parable for our time!
URL:https://www.immaculateconception.org.uk/event/sunday-26-c/
ATTACH;FMTTYPE=image/jpeg:https://www.immaculateconception.org.uk/wp-content/uploads/2022/06/278682512_3166374990286470_7199775305842464307_n-1.jpg
END:VEVENT
BEGIN:VEVENT
DTSTART;VALUE=DATE:20220924
DTEND;VALUE=DATE:20220925
DTSTAMP:20260423T115526
CREATED:20220917T181350Z
LAST-MODIFIED:20220917T181412Z
UID:908-1663977600-1664063999@www.immaculateconception.org.uk
SUMMARY:Pop up at ASDA
DESCRIPTION:Pop up and reach out! We’ll be doing coffee tea & chat under gazebos at ASDA\, marking the September weekend\, telling folk about “Together We Make Maryhill” and asking for your comments.\nFancy helping? Ask us for more info – thank you!
URL:https://www.immaculateconception.org.uk/event/pop-up-at-asda/
ATTACH;FMTTYPE=image/jpeg:https://www.immaculateconception.org.uk/wp-content/uploads/2022/07/IMG_5884-scaled.jpg
END:VEVENT
BEGIN:VEVENT
DTSTART;TZID=UTC:20220919T100000
DTEND;TZID=UTC:20220919T113000
DTSTAMP:20260423T115526
CREATED:20220915T204111Z
LAST-MODIFIED:20220915T204111Z
UID:887-1663581600-1663587000@www.immaculateconception.org.uk
SUMMARY:Breakfast Club every Monday
DESCRIPTION:Breakfast Club… Pop into St Gregory’s Hall every Monday 10am – 11.30am.  Free breakfast & a catch up!
URL:https://www.immaculateconception.org.uk/event/breakfast-club-every-monday/2022-09-19/
ATTACH;FMTTYPE=image/jpeg:https://www.immaculateconception.org.uk/wp-content/uploads/2022/07/Breakfast-Club.jpg
END:VEVENT
BEGIN:VEVENT
DTSTART;TZID=UTC:20220918T150000
DTEND;TZID=UTC:20220918T170000
DTSTAMP:20260423T115526
CREATED:20220915T202637Z
LAST-MODIFIED:20220915T202637Z
UID:882-1663513200-1663520400@www.immaculateconception.org.uk
SUMMARY:Wayside Club - Anniversary Mass
DESCRIPTION:The Wayside Club invites you to attend its 90 years Anniversary Mass – Sun 18th September 2022 at Bl John Duns Scotus\, 270 Ballater Street at 3pm
URL:https://www.immaculateconception.org.uk/event/wayside-club-anniversary-mass/
ATTACH;FMTTYPE=image/jpeg:https://www.immaculateconception.org.uk/wp-content/uploads/2022/07/IMG_5884-scaled.jpg
END:VEVENT
BEGIN:VEVENT
DTSTART;TZID=UTC:20220918T110000
DTEND;TZID=UTC:20220918T120000
DTSTAMP:20260423T115526
CREATED:20220915T201509Z
LAST-MODIFIED:20220915T201509Z
UID:877-1663498800-1663502400@www.immaculateconception.org.uk
SUMMARY:Children’s liturgy
DESCRIPTION:Welcome back! After 2 years children’s liturgy restarts; 11am Mass!
URL:https://www.immaculateconception.org.uk/event/childrens-liturgy/
ATTACH;FMTTYPE=image/jpeg:https://www.immaculateconception.org.uk/wp-content/uploads/2022/09/team-pic.jpg
END:VEVENT
BEGIN:VEVENT
DTSTART;VALUE=DATE:20220918
DTEND;VALUE=DATE:20220919
DTSTAMP:20260423T115526
CREATED:20220915T201245Z
LAST-MODIFIED:20220915T201245Z
UID:875-1663459200-1663545599@www.immaculateconception.org.uk
SUMMARY:Sunday 25 (C)
DESCRIPTION:Sunday 25 (C) Money – that tainted thing! You cannot be the slave to two masters.
URL:https://www.immaculateconception.org.uk/event/sunday-25-c/
ATTACH;FMTTYPE=image/jpeg:https://www.immaculateconception.org.uk/wp-content/uploads/2022/06/97053178_2608338082756833_668447363961978880_n.jpg
END:VEVENT
BEGIN:VEVENT
DTSTART;VALUE=DATE:20220917
DTEND;VALUE=DATE:20220918
DTSTAMP:20260423T115526
CREATED:20220915T201044Z
LAST-MODIFIED:20220915T201053Z
UID:873-1663372800-1663459199@www.immaculateconception.org.uk
SUMMARY:Sisters of Notre Dame
DESCRIPTION:Welcome to the Sisters of Notre Dame – they are here for their annual gathering and meeting.
URL:https://www.immaculateconception.org.uk/event/sisters-of-notre-dame/
ATTACH;FMTTYPE=image/jpeg:https://www.immaculateconception.org.uk/wp-content/uploads/2022/07/Birthday-of-mary-scaled.jpg
END:VEVENT
BEGIN:VEVENT
DTSTART;TZID=UTC:20220916T190000
DTEND;TZID=UTC:20220916T203000
DTSTAMP:20260423T115526
CREATED:20220915T200633Z
LAST-MODIFIED:20220915T200725Z
UID:870-1663354800-1663360200@www.immaculateconception.org.uk
SUMMARY:RCIA reunion
DESCRIPTION:Delighted to welcome back those received into the church over the last two years. Dinner and drinks at 7pm in the Chapel House.
URL:https://www.immaculateconception.org.uk/event/rcia-reunion/
ATTACH;FMTTYPE=image/jpeg:https://www.immaculateconception.org.uk/wp-content/uploads/2022/09/RCIA.jpg
END:VEVENT
BEGIN:VEVENT
DTSTART;TZID=UTC:20220915T080000
DTEND;TZID=UTC:20220915T170000
DTSTAMP:20260423T115526
CREATED:20220915T202035Z
LAST-MODIFIED:20220915T202130Z
UID:879-1663228800-1663261200@www.immaculateconception.org.uk
SUMMARY:1st birthday of "We Make Maryhill"
DESCRIPTION:Happy Birthday! Our Together “We Make Maryhill” project is one year old. We are gathering to celebrate all that has been achieved in the first last busy year! Shared lunch and fun for everyone – after worship – gather at Maryhill Ruchill Parish Church from 12.15pm.
URL:https://www.immaculateconception.org.uk/event/1st-birthday-of-we-make-maryhill/
ATTACH;FMTTYPE=image/jpeg:https://www.immaculateconception.org.uk/wp-content/uploads/2022/09/TWMM-2-2.jpg
END:VEVENT
BEGIN:VEVENT
DTSTART;VALUE=DATE:20220914
DTEND;VALUE=DATE:20220915
DTSTAMP:20260423T115526
CREATED:20220915T195847Z
LAST-MODIFIED:20220915T195847Z
UID:866-1663113600-1663199999@www.immaculateconception.org.uk
SUMMARY:Forty Hours concludes
DESCRIPTION:Thanks to everyone who came and made this a time of grace.
URL:https://www.immaculateconception.org.uk/event/forty-hours-concludes/
ATTACH;FMTTYPE=image/jpeg:https://www.immaculateconception.org.uk/wp-content/uploads/2022/09/Forty-hours.jpg
END:VEVENT
BEGIN:VEVENT
DTSTART;VALUE=DATE:20220909
DTEND;VALUE=DATE:20220910
DTSTAMP:20260423T115526
CREATED:20220731T145808Z
LAST-MODIFIED:20220731T145808Z
UID:821-1662681600-1662767999@www.immaculateconception.org.uk
SUMMARY:The wedding of Maria and Euan
DESCRIPTION:Congratulations to Maria and Euan who will marry here at the Immaculate Conception. Every blessing for the future!
URL:https://www.immaculateconception.org.uk/event/the-wedding-of-maria-and-euan/
ATTACH;FMTTYPE=image/jpeg:https://www.immaculateconception.org.uk/wp-content/uploads/2022/07/Maria-Euan.jpg
END:VEVENT
BEGIN:VEVENT
DTSTART;VALUE=DATE:20220908
DTEND;VALUE=DATE:20220909
DTSTAMP:20260423T115526
CREATED:20220731T145613Z
LAST-MODIFIED:20220731T145627Z
UID:818-1662595200-1662681599@www.immaculateconception.org.uk
SUMMARY:Church painting work finished
DESCRIPTION:Church painting will be completed and we will need a team to clean and reassemble the church. Please watch out for more information – thank you! 
URL:https://www.immaculateconception.org.uk/event/church-painting-works-finished/
ATTACH;FMTTYPE=image/jpeg:https://www.immaculateconception.org.uk/wp-content/uploads/2022/07/Church-painting.jpg
END:VEVENT
BEGIN:VEVENT
DTSTART;VALUE=DATE:20220908
DTEND;VALUE=DATE:20220909
DTSTAMP:20260423T115526
CREATED:20220731T145416Z
LAST-MODIFIED:20220731T145416Z
UID:815-1662595200-1662681599@www.immaculateconception.org.uk
SUMMARY:Birthday of our Blessed Lady
DESCRIPTION: A day to remember Mary\, our patron\, and to rejoice in her birth – remembering the saints\, Anne and Joachim. 
URL:https://www.immaculateconception.org.uk/event/birthday-of-our-blessed-lady/
ATTACH;FMTTYPE=image/jpeg:https://www.immaculateconception.org.uk/wp-content/uploads/2022/07/Birthday-of-mary-scaled.jpg
END:VEVENT
BEGIN:VEVENT
DTSTART;VALUE=DATE:20220904
DTEND;VALUE=DATE:20220905
DTSTAMP:20260423T115526
CREATED:20220731T145158Z
LAST-MODIFIED:20220731T145158Z
UID:812-1662249600-1662335999@www.immaculateconception.org.uk
SUMMARY:Missionaries of Africa
DESCRIPTION:Welcome to the Missionaries of Africa who are here to preach their Mission Appeal (delayed for almost two years because of Covid-19). The second collection will be taken up for them and their work. 
URL:https://www.immaculateconception.org.uk/event/missionaries-of-africa/
ATTACH;FMTTYPE=image/png:https://www.immaculateconception.org.uk/wp-content/uploads/2022/07/Missionaries-of-Africa.png
END:VEVENT
BEGIN:VEVENT
DTSTART;VALUE=DATE:20220904
DTEND;VALUE=DATE:20220905
DTSTAMP:20260423T115526
CREATED:20220731T144802Z
LAST-MODIFIED:20220731T144802Z
UID:810-1662249600-1662335999@www.immaculateconception.org.uk
SUMMARY:23rd Sunday in Ordinary time
DESCRIPTION:Jesus never promised that discipleship would be a bed of roses. Today Luke tells us clearly that following the Lord means sharing in his cross – every day!
URL:https://www.immaculateconception.org.uk/event/23rd-sunday-in-ordinary-time/
ATTACH;FMTTYPE=image/jpeg:https://www.immaculateconception.org.uk/wp-content/uploads/2022/06/1655888530752.jpeg
END:VEVENT
BEGIN:VEVENT
DTSTART;VALUE=DATE:20220829
DTEND;VALUE=DATE:20220830
DTSTAMP:20260423T115526
CREATED:20220731T144547Z
LAST-MODIFIED:20220731T144547Z
UID:807-1661731200-1661817599@www.immaculateconception.org.uk
SUMMARY:Church closed for redecoration
DESCRIPTION:The church is closed this week to be redecorated. Weekday Mass will move into the church hall. Please help keep things ticking over in the practical arrangements for each day. Thanks for your patience!
URL:https://www.immaculateconception.org.uk/event/church-closed-for-redecoration/
ATTACH;FMTTYPE=image/jpeg:https://www.immaculateconception.org.uk/wp-content/uploads/2022/07/Church-painting.jpg
END:VEVENT
BEGIN:VEVENT
DTSTART;VALUE=DATE:20220828
DTEND;VALUE=DATE:20220829
DTSTAMP:20260423T115526
CREATED:20220731T144325Z
LAST-MODIFIED:20220731T144325Z
UID:805-1661644800-1661731199@www.immaculateconception.org.uk
SUMMARY:22nd Sunday in Ordinary Time
DESCRIPTION:As so often\, the gospel turns the values of the world upside down! Followers of Jesus are invited to humility\, openness and not seekers of power or the limelight!
URL:https://www.immaculateconception.org.uk/event/22nd-sunday-in-ordinary-time/
ATTACH;FMTTYPE=image/jpeg:https://www.immaculateconception.org.uk/wp-content/uploads/2022/06/1655888567229.jpeg
END:VEVENT
BEGIN:VEVENT
DTSTART;VALUE=DATE:20220824
DTEND;VALUE=DATE:20220825
DTSTAMP:20260423T115526
CREATED:20220731T144028Z
LAST-MODIFIED:20220731T174534Z
UID:802-1661299200-1661385599@www.immaculateconception.org.uk
SUMMARY:Feast of St Bartholomew
DESCRIPTION:He came from Cana in Galilee and followed Jesus. We know little of him\, but he may have gone to Persia where he was martyred by being flayed – skinned alive.  Did you know that in Michelangelo’s picture of Bartholomew from the Sistine Chapel\, in the flayed skin is a picture of Michelangelo himself!
URL:https://www.immaculateconception.org.uk/event/feast-of-st-bartholomew/
END:VEVENT
BEGIN:VEVENT
DTSTART;VALUE=DATE:20220821
DTEND;VALUE=DATE:20220822
DTSTAMP:20260423T115526
CREATED:20220731T143742Z
LAST-MODIFIED:20220731T143742Z
UID:799-1661040000-1661126399@www.immaculateconception.org.uk
SUMMARY:21st Sunday in Ordinary Time
DESCRIPTION:It’s unfashionable to talk about the judgement. Today’s gospel reminds us that we are called to find fulfilment and salvation by being humble people of service – it’s this narrower road that leads to a fuller life!
URL:https://www.immaculateconception.org.uk/event/21st-sunday-in-ordinary-time/
ATTACH;FMTTYPE=image/jpeg:https://www.immaculateconception.org.uk/wp-content/uploads/2022/06/278682512_3166374990286470_7199775305842464307_n.jpg
END:VEVENT
BEGIN:VEVENT
DTSTART;VALUE=DATE:20220817
DTEND;VALUE=DATE:20220818
DTSTAMP:20260423T115526
CREATED:20220731T143505Z
LAST-MODIFIED:20220731T143505Z
UID:796-1660694400-1660780799@www.immaculateconception.org.uk
SUMMARY:Back to school
DESCRIPTION: The quickest weeks of the year are now over. Good luck to everybody starting school or moving up and for everybody heading back to class. Best wishes to our teaching\, auxiliary and domestic staff teams that keep our great schools going!
URL:https://www.immaculateconception.org.uk/event/back-to-school/
ATTACH;FMTTYPE=image/jpeg:https://www.immaculateconception.org.uk/wp-content/uploads/2022/07/Our-Schools.jpg
END:VEVENT
BEGIN:VEVENT
DTSTART;VALUE=DATE:20220815
DTEND;VALUE=DATE:20220816
DTSTAMP:20260423T115526
CREATED:20220731T142240Z
LAST-MODIFIED:20220731T143326Z
UID:791-1660521600-1660607999@www.immaculateconception.org.uk
SUMMARY:Father Jim’s annual holidays begin
DESCRIPTION:Safe travels to Father Jim – he promises to remember everybody in his prayers while he is away. 
URL:https://www.immaculateconception.org.uk/event/father-jims-annual-holidays-begin/
ATTACH;FMTTYPE=image/jpeg:https://www.immaculateconception.org.uk/wp-content/uploads/2022/07/IMG_5884-scaled.jpg
END:VEVENT
BEGIN:VEVENT
DTSTART;VALUE=DATE:20220815
DTEND;VALUE=DATE:20220816
DTSTAMP:20260423T115526
CREATED:20220731T143145Z
LAST-MODIFIED:20220731T175957Z
UID:794-1660521600-1660607999@www.immaculateconception.org.uk
SUMMARY:Welcome to the Mill Hill Missionaries
DESCRIPTION:The Mill Hill Missionaries have kindly agreed to cover Fr Jim’s holiday time away. We thank them very much! 
URL:https://www.immaculateconception.org.uk/event/welcome-to-the-mill-hill-missionaries/
ATTACH;FMTTYPE=image/png:https://www.immaculateconception.org.uk/wp-content/uploads/2022/07/Screenshot-2022-07-31-at-18.58.10.png
END:VEVENT
BEGIN:VEVENT
DTSTART;VALUE=DATE:20220814
DTEND;VALUE=DATE:20220815
DTSTAMP:20260423T115526
CREATED:20220731T142024Z
LAST-MODIFIED:20220731T175516Z
UID:788-1660435200-1660521599@www.immaculateconception.org.uk
SUMMARY:Solemnity of the Assumption of the Blessed Virgin Mary
DESCRIPTION:Moved from 15th August – This feast recalls that since she was immaculately conceived\, free of all corruption Mary was assumed body and soul into heaven. This feast is a singular honour to the Mother of God but a reminder that we too are called to be God forever in heaven. 
URL:https://www.immaculateconception.org.uk/event/solemnity-of-the-assumption-of-the-blessed-virgin-mary/
ATTACH;FMTTYPE=image/jpeg:https://www.immaculateconception.org.uk/wp-content/uploads/2022/07/Birthday-of-mary-scaled.jpg
END:VEVENT
BEGIN:VEVENT
DTSTART;VALUE=DATE:20220811
DTEND;VALUE=DATE:20220812
DTSTAMP:20260423T115526
CREATED:20220731T141754Z
LAST-MODIFIED:20220731T141754Z
UID:785-1660176000-1660262399@www.immaculateconception.org.uk
SUMMARY:The wedding of Meghan and Matthew
DESCRIPTION:Congratulations to Meghan and Matthew who will marry here at the Immaculate Conception. Every blessing for the future!
URL:https://www.immaculateconception.org.uk/event/the-wedding-of-meghan-and-matthew/
END:VEVENT
BEGIN:VEVENT
DTSTART;VALUE=DATE:20220810
DTEND;VALUE=DATE:20220811
DTSTAMP:20260423T115526
CREATED:20220731T141427Z
LAST-MODIFIED:20220731T141427Z
UID:782-1660089600-1660175999@www.immaculateconception.org.uk
SUMMARY:Feast of St Laurence
DESCRIPTION:A deacon in the early Church of Rome he was martyred – burned alive – for his faith in Jesus. Deacons are a reminder to the whole church that we find our fulfilment in serving others.
URL:https://www.immaculateconception.org.uk/event/feast-of-st-laurence/
END:VEVENT
BEGIN:VEVENT
DTSTART;VALUE=DATE:20220809
DTEND;VALUE=DATE:20220810
DTSTAMP:20260423T115526
CREATED:20220731T141026Z
LAST-MODIFIED:20220731T175624Z
UID:779-1660003200-1660089599@www.immaculateconception.org.uk
SUMMARY:Feast of St Theresa Benedicta of the Cross
DESCRIPTION:Edith Stein was a professional academic philosopher and Jewish. She became a Catholic and a Carmelite sister. Because of her origins\, she was caught up in the Nazi persecution of her people and exterminated\, with her sister Rosa\, in Auschwitz.
URL:https://www.immaculateconception.org.uk/event/feast-of-st-theresa-benedicta-of-the-cross/
ATTACH;FMTTYPE=image/jpeg:https://www.immaculateconception.org.uk/wp-content/uploads/2022/06/278682512_3166374990286470_7199775305842464307_n-1.jpg
END:VEVENT
BEGIN:VEVENT
DTSTART;VALUE=DATE:20220807
DTEND;VALUE=DATE:20220808
DTSTAMP:20260423T115526
CREATED:20220731T140737Z
LAST-MODIFIED:20220731T180905Z
UID:776-1659830400-1659916799@www.immaculateconception.org.uk
SUMMARY:19th Sunday in Ordinary Time
DESCRIPTION:The Gospel urges us to be vigilant – ready to welcome the Lord in the many and varied ways God comes to us every day. 
URL:https://www.immaculateconception.org.uk/event/19th-sunday-in-ordinary-time/
ATTACH;FMTTYPE=image/jpeg:https://www.immaculateconception.org.uk/wp-content/uploads/2022/06/278682512_3166374990286470_7199775305842464307_n-1.jpg
END:VEVENT
BEGIN:VEVENT
DTSTART;TZID=UTC:20220806T130000
DTEND;TZID=UTC:20220806T140000
DTSTAMP:20260423T115526
CREATED:20220701T095441Z
LAST-MODIFIED:20220703T160454Z
UID:653-1659790800-1659794400@www.immaculateconception.org.uk
SUMMARY:Summer Boat Trips
DESCRIPTION:Come & join us for a free one-hour boat trip on the Forth & Clyde Canal Society’s boats. There will be two opportunities. \n6th August – Leaving from the White House\, 1641 Maryhill Rd\, Glasgow\, G20 0DZ at 1pm or 2.30pm  \nGet a flyer and book a place!
URL:https://www.immaculateconception.org.uk/event/summer-boat-trips-2/2022-08-06/
LOCATION:White House\, 1641 Maryhill Rd\, Glasgow\, G20 0DZ
ATTACH;FMTTYPE=image/jpeg:https://www.immaculateconception.org.uk/wp-content/uploads/2022/07/TWMM-logo.jpg
END:VEVENT
END:VCALENDAR