BEGIN:VCALENDAR
VERSION:2.0
PRODID:-//Immaculate Conception - ECPv6.15.20//NONSGML v1.0//EN
CALSCALE:GREGORIAN
METHOD:PUBLISH
X-WR-CALNAME:Immaculate Conception
X-ORIGINAL-URL:https://www.immaculateconception.org.uk
X-WR-CALDESC:Events for Immaculate Conception
REFRESH-INTERVAL;VALUE=DURATION:PT1H
X-Robots-Tag:noindex
X-PUBLISHED-TTL:PT1H
BEGIN:VTIMEZONE
TZID:UTC
BEGIN:STANDARD
TZOFFSETFROM:+0000
TZOFFSETTO:+0000
TZNAME:UTC
DTSTART:20210101T000000
END:STANDARD
END:VTIMEZONE
BEGIN:VEVENT
DTSTART;TZID=UTC:20220726T100000
DTEND;TZID=UTC:20220726T110000
DTSTAMP:20260421T083713
CREATED:20220704T083838Z
LAST-MODIFIED:20220704T083838Z
UID:700-1658829600-1658833200@www.immaculateconception.org.uk
SUMMARY:‘GrannyMass’ Feast of Saints Joachim & Anne
DESCRIPTION:Joachim and Anne\, the parents of Mary\, are Jesus’ grandparents. We are inviting all grandchildren of any age to bring all the grannies and grandpas to Mass on this feast for a special blessing. Tea and coffee in the hall afterwards.
URL:https://www.immaculateconception.org.uk/event/grannymass-feast-of-saints-joachim-anne/
ATTACH;FMTTYPE=image/jpeg:https://www.immaculateconception.org.uk/wp-content/uploads/2022/07/Joachim-Anne.jpg
END:VEVENT
BEGIN:VEVENT
DTSTART;TZID=UTC:20220717T140000
DTEND;TZID=UTC:20220717T150000
DTSTAMP:20260421T083713
CREATED:20220701T094830Z
LAST-MODIFIED:20220701T124350Z
UID:647-1658066400-1658070000@www.immaculateconception.org.uk
SUMMARY:Glasgow Archdiocese Lourdes Mass
DESCRIPTION:For the third year Covid-19 have prevented the Archdiocese from holding it’s annual pilgrimage to Lourdes. This year we are inviting everyone to celebrate at Carfin Lourdes Grotto a Mass on Glasgow Fair Sunday. There will be sacramental anointing of the sick and the opportunity to visit the National Shrine in honour of Our Lady of Lourdes. We are delighted for the first time to be led in this pilgrimage by Archbishop Nolan. \n(With celebration of the Sacrament of the Sick)
URL:https://www.immaculateconception.org.uk/event/glasgow-archdiocese-lourdes-mass/
LOCATION:Carfin Grotto\, 100 Newarthill Rd\, Motherwell\, ML1 5AL
ATTACH;FMTTYPE=image/jpeg:https://www.immaculateconception.org.uk/wp-content/uploads/2022/07/Lourdes-Mass-scaled.jpg
END:VEVENT
BEGIN:VEVENT
DTSTART;TZID=UTC:20220706T190000
DTEND;TZID=UTC:20220706T210000
DTSTAMP:20260421T083713
CREATED:20220701T094411Z
LAST-MODIFIED:20220701T133041Z
UID:644-1657134000-1657141200@www.immaculateconception.org.uk
SUMMARY:Voice of Ukraine Charity Concert
DESCRIPTION:Classical & traditional songs from the Ukraine. This event is free but there will be an opportunity to contribute to SCIAF’s emergency Ukraine Appeal.
URL:https://www.immaculateconception.org.uk/event/voice-of-ukraine-charity-concert/
LOCATION:St. Aloysius Church\, Saint Aloysius\, 25 Rose St\, Garnethill\, Glasgow\, G3 6RE
ATTACH;FMTTYPE=image/png:https://www.immaculateconception.org.uk/wp-content/uploads/2022/07/church_concert.png
END:VEVENT
BEGIN:VEVENT
DTSTART;TZID=UTC:20220701T100000
DTEND;TZID=UTC:20220701T113000
DTSTAMP:20260421T083713
CREATED:20220701T093642Z
LAST-MODIFIED:20220701T154736Z
UID:627-1656669600-1656675000@www.immaculateconception.org.uk
SUMMARY:Breakfast Club
DESCRIPTION:During the school holidays\, free breakfast is available to everybody as part of our part of our reach out to the whole community! Breakfast Grateful for the volunteers from all the local churches.
URL:https://www.immaculateconception.org.uk/event/breakfast-club/2022-07-01/
LOCATION:St. Gregory’s
ATTACH;FMTTYPE=image/jpeg:https://www.immaculateconception.org.uk/wp-content/uploads/2022/07/Breakfast-Club.jpg
END:VEVENT
BEGIN:VEVENT
DTSTART;TZID=UTC:20220618T130000
DTEND;TZID=UTC:20220618T163000
DTSTAMP:20260421T083713
CREATED:20220601T105438Z
LAST-MODIFIED:20220601T152304Z
UID:188-1655557200-1655569800@www.immaculateconception.org.uk
SUMMARY:Parish Fête - June 18th
DESCRIPTION:Our world famous parish fête is back after 3 years!\n\nWe need bottles\, bric a brac\, and volunteers. We are grateful for any donations (which can be left in the porch of the church or behind storm doors of the house). Everything is accepted!\n\nThere will be no baking this year however we ask for goods to stock the tea bar.\n\nThe raffle is now open and tickets can be bought in the chapel.\n\nFirst prize – Winner chooses either the signed CFC strip OR the luxury hamper.\n\nSecond prize – Whatever is left – top or hamper.\n\nThen six runners up of premium spirits!\n\n£3 per strip of 5 tickets and 2x strips for £5\n\nOpen to everyone\, have a go!
URL:https://www.immaculateconception.org.uk/event/parish-fete-june-18th/
LOCATION:Church Hall\, 2049 Maryhill Road\, Glasgow\, G20 0AA\, United Kingdom
END:VEVENT
END:VCALENDAR