BEGIN:VCALENDAR
VERSION:2.0
PRODID:-//Immaculate Conception - ECPv6.15.20//NONSGML v1.0//EN
CALSCALE:GREGORIAN
METHOD:PUBLISH
X-WR-CALNAME:Immaculate Conception
X-ORIGINAL-URL:https://www.immaculateconception.org.uk
X-WR-CALDESC:Events for Immaculate Conception
REFRESH-INTERVAL;VALUE=DURATION:PT1H
X-Robots-Tag:noindex
X-PUBLISHED-TTL:PT1H
BEGIN:VTIMEZONE
TZID:UTC
BEGIN:STANDARD
TZOFFSETFROM:+0000
TZOFFSETTO:+0000
TZNAME:UTC
DTSTART:20240101T000000
END:STANDARD
END:VTIMEZONE
BEGIN:VEVENT
DTSTART;TZID=UTC:20250603T113000
DTEND;TZID=UTC:20250603T150000
DTSTAMP:20260421T095937
CREATED:20230803T193124Z
LAST-MODIFIED:20230803T193124Z
UID:2980-1748950200-1748962800@www.immaculateconception.org.uk
SUMMARY:Tuesday Club 11.30 - 3pm
DESCRIPTION:Here is the parish – friendship\, fun\, a dance and a bowl of home-made soup\, home baking. A game of bingo – of course! A programme of events throughout the year.  And a warm welcome. 
URL:https://www.immaculateconception.org.uk/event/tuesday-club-11-30-3pm/2025-06-03/
ATTACH;FMTTYPE=image/jpeg:https://www.immaculateconception.org.uk/wp-content/uploads/2023/08/goulash-4014661_640.jpg
END:VEVENT
BEGIN:VEVENT
DTSTART;TZID=UTC:20250605T103000
DTEND;TZID=UTC:20250605T140000
DTSTAMP:20260421T095937
CREATED:20250208T170505Z
LAST-MODIFIED:20251103T195739Z
UID:2968-1749119400-1749132000@www.immaculateconception.org.uk
SUMMARY:Maccy Caffy
DESCRIPTION:Come and join us in the hall for a cuppa\, a breakfast roll\, lunch or just a wee chat. You are all welcome!
URL:https://www.immaculateconception.org.uk/event/maccy-caffy/2025-06-05/
ATTACH;FMTTYPE=image/jpeg:https://www.immaculateconception.org.uk/wp-content/uploads/2023/08/Sunday-Tea-Bar.jpg
END:VEVENT
BEGIN:VEVENT
DTSTART;TZID=UTC:20250610T113000
DTEND;TZID=UTC:20250610T150000
DTSTAMP:20260421T095937
CREATED:20230803T193124Z
LAST-MODIFIED:20230803T193124Z
UID:2981-1749555000-1749567600@www.immaculateconception.org.uk
SUMMARY:Tuesday Club 11.30 - 3pm
DESCRIPTION:Here is the parish – friendship\, fun\, a dance and a bowl of home-made soup\, home baking. A game of bingo – of course! A programme of events throughout the year.  And a warm welcome. 
URL:https://www.immaculateconception.org.uk/event/tuesday-club-11-30-3pm/2025-06-10/
ATTACH;FMTTYPE=image/jpeg:https://www.immaculateconception.org.uk/wp-content/uploads/2023/08/goulash-4014661_640.jpg
END:VEVENT
BEGIN:VEVENT
DTSTART;TZID=UTC:20250612T103000
DTEND;TZID=UTC:20250612T140000
DTSTAMP:20260421T095937
CREATED:20250208T170505Z
LAST-MODIFIED:20251103T195740Z
UID:2969-1749724200-1749736800@www.immaculateconception.org.uk
SUMMARY:Maccy Caffy
DESCRIPTION:Come and join us in the hall for a cuppa\, a breakfast roll\, lunch or just a wee chat. You are all welcome!
URL:https://www.immaculateconception.org.uk/event/maccy-caffy/2025-06-12/
ATTACH;FMTTYPE=image/jpeg:https://www.immaculateconception.org.uk/wp-content/uploads/2023/08/Sunday-Tea-Bar.jpg
END:VEVENT
BEGIN:VEVENT
DTSTART;TZID=UTC:20250617T113000
DTEND;TZID=UTC:20250617T150000
DTSTAMP:20260421T095937
CREATED:20230803T193124Z
LAST-MODIFIED:20230803T193124Z
UID:2983-1750159800-1750172400@www.immaculateconception.org.uk
SUMMARY:Tuesday Club 11.30 - 3pm
DESCRIPTION:Here is the parish – friendship\, fun\, a dance and a bowl of home-made soup\, home baking. A game of bingo – of course! A programme of events throughout the year.  And a warm welcome. 
URL:https://www.immaculateconception.org.uk/event/tuesday-club-11-30-3pm/2025-06-17/
ATTACH;FMTTYPE=image/jpeg:https://www.immaculateconception.org.uk/wp-content/uploads/2023/08/goulash-4014661_640.jpg
END:VEVENT
BEGIN:VEVENT
DTSTART;TZID=UTC:20250619T103000
DTEND;TZID=UTC:20250619T140000
DTSTAMP:20260421T095937
CREATED:20250208T170505Z
LAST-MODIFIED:20251103T195740Z
UID:2970-1750329000-1750341600@www.immaculateconception.org.uk
SUMMARY:Maccy Caffy
DESCRIPTION:Come and join us in the hall for a cuppa\, a breakfast roll\, lunch or just a wee chat. You are all welcome!
URL:https://www.immaculateconception.org.uk/event/maccy-caffy/2025-06-19/
ATTACH;FMTTYPE=image/jpeg:https://www.immaculateconception.org.uk/wp-content/uploads/2023/08/Sunday-Tea-Bar.jpg
END:VEVENT
BEGIN:VEVENT
DTSTART;TZID=UTC:20250624T113000
DTEND;TZID=UTC:20250624T150000
DTSTAMP:20260421T095937
CREATED:20230803T193124Z
LAST-MODIFIED:20230803T193124Z
UID:2984-1750764600-1750777200@www.immaculateconception.org.uk
SUMMARY:Tuesday Club 11.30 - 3pm
DESCRIPTION:Here is the parish – friendship\, fun\, a dance and a bowl of home-made soup\, home baking. A game of bingo – of course! A programme of events throughout the year.  And a warm welcome. 
URL:https://www.immaculateconception.org.uk/event/tuesday-club-11-30-3pm/2025-06-24/
ATTACH;FMTTYPE=image/jpeg:https://www.immaculateconception.org.uk/wp-content/uploads/2023/08/goulash-4014661_640.jpg
END:VEVENT
BEGIN:VEVENT
DTSTART;TZID=UTC:20250626T103000
DTEND;TZID=UTC:20250626T140000
DTSTAMP:20260421T095937
CREATED:20250208T170505Z
LAST-MODIFIED:20251103T195740Z
UID:2971-1750933800-1750946400@www.immaculateconception.org.uk
SUMMARY:Maccy Caffy
DESCRIPTION:Come and join us in the hall for a cuppa\, a breakfast roll\, lunch or just a wee chat. You are all welcome!
URL:https://www.immaculateconception.org.uk/event/maccy-caffy/2025-06-26/
ATTACH;FMTTYPE=image/jpeg:https://www.immaculateconception.org.uk/wp-content/uploads/2023/08/Sunday-Tea-Bar.jpg
END:VEVENT
END:VCALENDAR