BEGIN:VCALENDAR
VERSION:2.0
PRODID:-//Immaculate Conception - ECPv6.15.20//NONSGML v1.0//EN
CALSCALE:GREGORIAN
METHOD:PUBLISH
X-WR-CALNAME:Immaculate Conception
X-ORIGINAL-URL:https://www.immaculateconception.org.uk
X-WR-CALDESC:Events for Immaculate Conception
REFRESH-INTERVAL;VALUE=DURATION:PT1H
X-Robots-Tag:noindex
X-PUBLISHED-TTL:PT1H
BEGIN:VTIMEZONE
TZID:UTC
BEGIN:STANDARD
TZOFFSETFROM:+0000
TZOFFSETTO:+0000
TZNAME:UTC
DTSTART:20250101T000000
END:STANDARD
END:VTIMEZONE
BEGIN:VEVENT
DTSTART;VALUE=DATE:20260105
DTEND;VALUE=DATE:20260106
DTSTAMP:20260422T104012
CREATED:20251212T160015Z
LAST-MODIFIED:20251212T160015Z
UID:3134-1767571200-1767657599@www.immaculateconception.org.uk
SUMMARY:Meditation Group
DESCRIPTION:
URL:https://www.immaculateconception.org.uk/event/meditation-group-4/
END:VEVENT
BEGIN:VEVENT
DTSTART;VALUE=DATE:20260108
DTEND;VALUE=DATE:20260109
DTSTAMP:20260422T104012
CREATED:20251212T160105Z
LAST-MODIFIED:20251212T160105Z
UID:3136-1767830400-1767916799@www.immaculateconception.org.uk
SUMMARY:Baptism Prep Night
DESCRIPTION:
URL:https://www.immaculateconception.org.uk/event/baptism-prep-night/
END:VEVENT
BEGIN:VEVENT
DTSTART;TZID=UTC:20260113T113000
DTEND;TZID=UTC:20260113T130000
DTSTAMP:20260422T104012
CREATED:20251212T160302Z
LAST-MODIFIED:20251212T160302Z
UID:3138-1768303800-1768309200@www.immaculateconception.org.uk
SUMMARY:Tuesday Club
DESCRIPTION:Here is the parish – friendship\, fun\, a dance and a bowl of home-made soup\, home baking. A game of bingo – of course! A programme of events throughout the year.  And a warm welcome.
URL:https://www.immaculateconception.org.uk/event/tuesday-club-3/2026-01-13/
END:VEVENT
BEGIN:VEVENT
DTSTART;TZID=UTC:20260115T103000
DTEND;TZID=UTC:20260115T140000
DTSTAMP:20260422T104012
CREATED:20251212T160430Z
LAST-MODIFIED:20251212T160430Z
UID:3143-1768473000-1768485600@www.immaculateconception.org.uk
SUMMARY:Maccy Cafe
DESCRIPTION:Come and join us in the hall for a cuppa\, a breakfast roll\, lunch or just a wee chat. You are all welcome!
URL:https://www.immaculateconception.org.uk/event/maccy-cafe-2/2026-01-15/
END:VEVENT
BEGIN:VEVENT
DTSTART;TZID=UTC:20260119T130000
DTEND;TZID=UTC:20260119T133000
DTSTAMP:20260422T104012
CREATED:20251212T160755Z
LAST-MODIFIED:20260108T152726Z
UID:3147-1768827600-1768829400@www.immaculateconception.org.uk
SUMMARY:Prayer Week Christian Unity: Our Call To Unity
DESCRIPTION:  \nWeek of prayer for Christian Unity “Go and Do”. This week (18th–25th January) brings together all the Christian churches of Maryhill. We meet every day to reflect and pray together – and share some food! Check our web and bulletin for dates and venues. \nWeek of Prayer for Christian Unity (18 – 25 January 2026)\nChurches have been working together in Maryhill to arrange 5 daily sessions. We will use the materials which have been prepared internationally\, by churches in Armenia. We have learned that the Armenian Church has suffered a lot\, and that the Armenian people spread\nacross the world to escape dangers. We think the materials will be very topical\, to the current talk about migration. \n\n\nPlease join us for the four short lunchtime sessions of scripture\, prayer and reflection.\nAnd come early for soup\, tea and coffee before hand.\n\nOn the Friday evening\, we plan a short session of scripture\, prayer and reflection followed by cheese and wine social.
URL:https://www.immaculateconception.org.uk/event/prayer-week-christian-unity-our-call-to-unity/
LOCATION:St. Gregory’s
END:VEVENT
BEGIN:VEVENT
DTSTART;TZID=UTC:20260120T113000
DTEND;TZID=UTC:20260120T130000
DTSTAMP:20260422T104012
CREATED:20251212T160302Z
LAST-MODIFIED:20251212T160302Z
UID:3139-1768908600-1768914000@www.immaculateconception.org.uk
SUMMARY:Tuesday Club
DESCRIPTION:Here is the parish – friendship\, fun\, a dance and a bowl of home-made soup\, home baking. A game of bingo – of course! A programme of events throughout the year.  And a warm welcome.
URL:https://www.immaculateconception.org.uk/event/tuesday-club-3/2026-01-20/
END:VEVENT
BEGIN:VEVENT
DTSTART;TZID=UTC:20260120T130000
DTEND;TZID=UTC:20260120T133000
DTSTAMP:20260422T104012
CREATED:20251212T161003Z
LAST-MODIFIED:20260108T152927Z
UID:3149-1768914000-1768915800@www.immaculateconception.org.uk
SUMMARY:Prayer Week Christian Unity: Bearing with one another in love
DESCRIPTION:Week of prayer for Christian Unity “Go and Do”. This week (18th–25th January) brings together all the Christian churches of Maryhill. We meet every day to reflect and pray together – and share some food! Check our web and bulletin for dates and venues. \nWeek of Prayer for Christian Unity (18 – 25 January 2026)\nChurches have been working together in Maryhill to arrange 5 daily sessions. We will use the materials which have been prepared internationally\, by churches in Armenia. We have learned that the Armenian Church has suffered a lot\, and that the Armenian people spread across the world to escape dangers. We think the materials will be very topical\, to the current talk about migration.\n\nPlease join us for the four short lunchtime sessions of scripture\, prayer and reflection.\nAnd come early for soup\, tea and coffee before hand.\n\nOn the Friday evening\, we plan a short session of scripture\, prayer and reflection followed by cheese and wine social.
URL:https://www.immaculateconception.org.uk/event/prayer-week-christian-unity-bearing-with-one-another-in-love/
LOCATION:Findlay Church\, 56 Clarendon Place\, Glasgow\, G20 7PZ
END:VEVENT
BEGIN:VEVENT
DTSTART;TZID=UTC:20260121T130000
DTEND;TZID=UTC:20260121T133000
DTSTAMP:20260422T104012
CREATED:20251212T161212Z
LAST-MODIFIED:20260108T153409Z
UID:3153-1769000400-1769002200@www.immaculateconception.org.uk
SUMMARY:Prayer Week Christian Unity: Peace
DESCRIPTION:  \nWeek of prayer for Christian Unity “Go and Do”. This week (18th–25th January) brings together all the Christian churches of Maryhill. We meet every day to reflect and pray together – and share some food! Check our web and bulletin for dates and venues. \nWeek of Prayer for Christian Unity (18 – 25 January 2026)\nChurches have been working together in Maryhill to arrange 5 daily sessions. We will use the materials which have been prepared internationally\, by churches in Armenia. We have learned that the Armenian Church has suffered a lot\, and that the Armenian people spread across the world to escape dangers. We think the materials will be very topical\, to the current talk about migration.\n\nPlease join us for the four short lunchtime sessions of scripture\, prayer and reflection.\nAnd come early for soup\, tea and coffee before hand.\n\nOn the Friday evening\, we plan a short session of scripture\, prayer and reflection followed by cheese and wine social.
URL:https://www.immaculateconception.org.uk/event/prayer-week-christian-unity-peace/
LOCATION:Maryhill Ruchill Parish Church\, 1990 Maryhill Road\, Glasgow\, G20 0EF
END:VEVENT
BEGIN:VEVENT
DTSTART;TZID=UTC:20260122T103000
DTEND;TZID=UTC:20260122T140000
DTSTAMP:20260422T104012
CREATED:20251212T160430Z
LAST-MODIFIED:20251212T160430Z
UID:3144-1769077800-1769090400@www.immaculateconception.org.uk
SUMMARY:Maccy Cafe
DESCRIPTION:Come and join us in the hall for a cuppa\, a breakfast roll\, lunch or just a wee chat. You are all welcome!
URL:https://www.immaculateconception.org.uk/event/maccy-cafe-2/2026-01-22/
END:VEVENT
BEGIN:VEVENT
DTSTART;TZID=UTC:20260122T130000
DTEND;TZID=UTC:20260122T133000
DTSTAMP:20260422T104012
CREATED:20251212T161312Z
LAST-MODIFIED:20260108T153526Z
UID:3156-1769086800-1769088600@www.immaculateconception.org.uk
SUMMARY:Prayer Week Christian Unity: Called to one hope
DESCRIPTION:  \nWeek of prayer for Christian Unity “Go and Do”. This week (18th–25th January) brings together all the Christian churches of Maryhill. We meet every day to reflect and pray together – and share some food! Check our web and bulletin for dates and venues. \nWeek of Prayer for Christian Unity (18 – 25 January 2026)\nChurches have been working together in Maryhill to arrange 5 daily sessions. We will use the materials which have been prepared internationally\, by churches in Armenia. We have learned that the Armenian Church has suffered a lot\, and that the Armenian people spread across the world to escape dangers. We think the materials will be very topical\, to the current talk about migration.\n\nPlease join us for the four short lunchtime sessions of scripture\, prayer and reflection.\nAnd come early for soup\, tea and coffee before hand.\n\nOn the Friday evening\, we plan a short session of scripture\, prayer and reflection followed by cheese and wine social.
URL:https://www.immaculateconception.org.uk/event/prayer-week-christian-unity-called-to-one-hope/
LOCATION:Church Hall\, 2049 Maryhill Road\, Glasgow\, G20 0AA\, United Kingdom
END:VEVENT
BEGIN:VEVENT
DTSTART;TZID=UTC:20260123T190000
DTEND;TZID=UTC:20260123T193000
DTSTAMP:20260422T104012
CREATED:20251212T161411Z
LAST-MODIFIED:20260108T153720Z
UID:3158-1769194800-1769196600@www.immaculateconception.org.uk
SUMMARY:Prayer Week Christian Unity: Christ’s gift\, and Growing into Christ.
DESCRIPTION:  \nWeek of prayer for Christian Unity “Go and Do”. This week (18th–25th January) brings together all the Christian churches of Maryhill. We meet every day to reflect and pray together – and share some food! Check our web and bulletin for dates and venues. \nWeek of Prayer for Christian Unity (18 – 25 January 2026)\nChurches have been working together in Maryhill to arrange 5 daily sessions. We will use the materials which have been prepared internationally\, by churches in Armenia. We have learned that the Armenian Church has suffered a lot\, and that the Armenian people spread across the world to escape dangers. We think the materials will be very topical\, to the current talk about migration.\n\nPlease join us for the four short lunchtime sessions of scripture\, prayer and reflection.\nAnd come early for soup\, tea and coffee before hand.\n\nOn the Friday evening\, we plan a short session of scripture\, prayer and reflection followed by cheese and wine social.
URL:https://www.immaculateconception.org.uk/event/prayer-week-christian-unity-christs-gift-and-growing-into-christ/
LOCATION:St. Gregory’s
END:VEVENT
BEGIN:VEVENT
DTSTART;TZID=UTC:20260127T093000
DTEND;TZID=UTC:20260127T113000
DTSTAMP:20260422T104012
CREATED:20251212T161502Z
LAST-MODIFIED:20251221T165316Z
UID:3160-1769506200-1769513400@www.immaculateconception.org.uk
SUMMARY:Men's Breakfast
DESCRIPTION:Come and join us at the Viking Lounge (Viking Bar on Maryhill Road) and join us for breakfast and a chat. If you haven’t been before\, why not come along and suss it out and if it’s not for you\, at least you’ll get a free brekkie!
URL:https://www.immaculateconception.org.uk/event/mens-breakfast-10/
LOCATION:The Viking Bar\, 1190 Maryhill Road\, Glasgow\, G20 9BA\, United Kingdom
END:VEVENT
BEGIN:VEVENT
DTSTART;TZID=UTC:20260127T113000
DTEND;TZID=UTC:20260127T130000
DTSTAMP:20260422T104012
CREATED:20251212T160302Z
LAST-MODIFIED:20251212T160302Z
UID:3140-1769513400-1769518800@www.immaculateconception.org.uk
SUMMARY:Tuesday Club
DESCRIPTION:Here is the parish – friendship\, fun\, a dance and a bowl of home-made soup\, home baking. A game of bingo – of course! A programme of events throughout the year.  And a warm welcome.
URL:https://www.immaculateconception.org.uk/event/tuesday-club-3/2026-01-27/
END:VEVENT
BEGIN:VEVENT
DTSTART;TZID=UTC:20260129T103000
DTEND;TZID=UTC:20260129T140000
DTSTAMP:20260422T104012
CREATED:20251212T160430Z
LAST-MODIFIED:20251212T160430Z
UID:3145-1769682600-1769695200@www.immaculateconception.org.uk
SUMMARY:Maccy Cafe
DESCRIPTION:Come and join us in the hall for a cuppa\, a breakfast roll\, lunch or just a wee chat. You are all welcome!
URL:https://www.immaculateconception.org.uk/event/maccy-cafe-2/2026-01-29/
END:VEVENT
END:VCALENDAR